BEGIN:VCALENDAR
VERSION:2.0
PRODID:-//Palmetto Hall POA - ECPv6.6.4//NONSGML v1.0//EN
CALSCALE:GREGORIAN
METHOD:PUBLISH
X-ORIGINAL-URL:https://palmettohallhhi.com
X-WR-CALDESC:Events for Palmetto Hall POA
REFRESH-INTERVAL;VALUE=DURATION:PT1H
X-Robots-Tag:noindex
X-PUBLISHED-TTL:PT1H
BEGIN:VTIMEZONE
TZID:America/New_York
BEGIN:DAYLIGHT
TZOFFSETFROM:-0500
TZOFFSETTO:-0400
TZNAME:EDT
DTSTART:20240310T070000
END:DAYLIGHT
BEGIN:STANDARD
TZOFFSETFROM:-0400
TZOFFSETTO:-0500
TZNAME:EST
DTSTART:20241103T060000
END:STANDARD
END:VTIMEZONE
BEGIN:VEVENT
DTSTART;TZID=America/New_York:20241011T100000
DTEND;TZID=America/New_York:20241011T120000
DTSTAMP:20260419T204112
CREATED:20241007T001026Z
LAST-MODIFIED:20241007T004212Z
UID:10000066-1728640800-1728648000@palmettohallhhi.com
SUMMARY:PHWC Fall Wreath
DESCRIPTION:PHWC Fall Wreath at Wimbee Farms\nOctober 11th – 10:00 AM
URL:https://palmettohallhhi.com/event/phwc-fall-wreath/
LOCATION:Wimbee Farms\, 84 Coakley Dr\, Seabrook\, 29940\, United States
CATEGORIES:PHWC
ATTACH;FMTTYPE=image/jpeg:https://palmettohallhhi.com/wp-content/uploads/2024/10/mel-poole-rmB_CohXV9s-unsplash.jpg
END:VEVENT
END:VCALENDAR