BEGIN:VCALENDAR
VERSION:2.0
PRODID:-//Palmetto Hall POA - ECPv6.6.4//NONSGML v1.0//EN
CALSCALE:GREGORIAN
METHOD:PUBLISH
X-ORIGINAL-URL:https://palmettohallhhi.com
X-WR-CALDESC:Events for Palmetto Hall POA
REFRESH-INTERVAL;VALUE=DURATION:PT1H
X-Robots-Tag:noindex
X-PUBLISHED-TTL:PT1H
BEGIN:VTIMEZONE
TZID:America/New_York
BEGIN:DAYLIGHT
TZOFFSETFROM:-0500
TZOFFSETTO:-0400
TZNAME:EDT
DTSTART:20240310T070000
END:DAYLIGHT
BEGIN:STANDARD
TZOFFSETFROM:-0400
TZOFFSETTO:-0500
TZNAME:EST
DTSTART:20241103T060000
END:STANDARD
END:VTIMEZONE
BEGIN:VEVENT
DTSTART;TZID=America/New_York:20241025T170000
DTEND;TZID=America/New_York:20241025T200000
DTSTAMP:20260419T204114
CREATED:20240913T155924Z
LAST-MODIFIED:20240913T161133Z
UID:10000050-1729875600-1729886400@palmettohallhhi.com
SUMMARY:Community Event – Fall Festival
DESCRIPTION:Community Event – Fall Festival\nClubhouse Time 5:00 PM
URL:https://palmettohallhhi.com/event/community-event-fall-festival/
LOCATION:Palmetto Hall Clubhouse\, 108 Fort Howell Drive\, Hilton Head Island\, SC\, 29926\, United States
ATTACH;FMTTYPE=image/jpeg:https://palmettohallhhi.com/wp-content/uploads/2024/09/fall-festival.jpg
END:VEVENT
END:VCALENDAR