BEGIN:VCALENDAR
VERSION:2.0
PRODID:-//Palmetto Hall POA - ECPv6.6.4//NONSGML v1.0//EN
CALSCALE:GREGORIAN
METHOD:PUBLISH
X-ORIGINAL-URL:https://palmettohallhhi.com
X-WR-CALDESC:Events for Palmetto Hall POA
REFRESH-INTERVAL;VALUE=DURATION:PT1H
X-Robots-Tag:noindex
X-PUBLISHED-TTL:PT1H
BEGIN:VTIMEZONE
TZID:UTC
BEGIN:STANDARD
TZOFFSETFROM:+0000
TZOFFSETTO:+0000
TZNAME:UTC
DTSTART:20240101T000000
END:STANDARD
TZID:America/New_York
BEGIN:DAYLIGHT
TZOFFSETFROM:-0500
TZOFFSETTO:-0400
TZNAME:EDT
DTSTART:20240310T070000
END:DAYLIGHT
BEGIN:STANDARD
TZOFFSETFROM:-0400
TZOFFSETTO:-0500
TZNAME:EST
DTSTART:20241103T060000
END:STANDARD
END:VTIMEZONE
BEGIN:VEVENT
DTSTART;TZID=UTC:20241213T080000
DTEND;TZID=UTC:20241213T100000
DTSTAMP:20260419T172130
CREATED:20240913T163936Z
LAST-MODIFIED:20240913T163936Z
UID:10000061-1734076800-1734084000@palmettohallhhi.com
SUMMARY:Monthly BOD Meeting
DESCRIPTION:Monthly BOD Meeting\n8:00 AM\, Club Banquet Room
URL:https://palmettohallhhi.com/event/monthly-bod-meeting-5/
LOCATION:Palmetto Hall Clubhouse\, 108 Fort Howell Drive\, Hilton Head Island\, SC\, 29926\, United States
ATTACH;FMTTYPE=image/jpeg:https://palmettohallhhi.com/wp-content/uploads/2024/09/Clubhouse-Cropped.jpg
END:VEVENT
BEGIN:VEVENT
DTSTART;TZID=America/New_York:20241213T100000
DTEND;TZID=America/New_York:20241213T120000
DTSTAMP:20260419T172130
CREATED:20240913T164048Z
LAST-MODIFIED:20240913T164048Z
UID:10000062-1734084000-1734091200@palmettohallhhi.com
SUMMARY:2025 Organizational BOD Meeting
DESCRIPTION:2025 Organizational BOD Meeting\n10:00 AM Club Banquet Room
URL:https://palmettohallhhi.com/event/2025-organizational-bod-meeting/
LOCATION:Palmetto Hall Clubhouse\, 108 Fort Howell Drive\, Hilton Head Island\, SC\, 29926\, United States
ATTACH;FMTTYPE=image/jpeg:https://palmettohallhhi.com/wp-content/uploads/2024/09/Clubhouse-Cropped.jpg
END:VEVENT
END:VCALENDAR