BEGIN:VCALENDAR
VERSION:2.0
PRODID:-//Palmetto Hall POA - ECPv6.6.4//NONSGML v1.0//EN
CALSCALE:GREGORIAN
METHOD:PUBLISH
X-ORIGINAL-URL:https://palmettohallhhi.com
X-WR-CALDESC:Events for Palmetto Hall POA
REFRESH-INTERVAL;VALUE=DURATION:PT1H
X-Robots-Tag:noindex
X-PUBLISHED-TTL:PT1H
BEGIN:VTIMEZONE
TZID:UTC
BEGIN:STANDARD
TZOFFSETFROM:+0000
TZOFFSETTO:+0000
TZNAME:UTC
DTSTART:20250101T000000
END:STANDARD
END:VTIMEZONE
BEGIN:VEVENT
DTSTART;TZID=UTC:20250228T133000
DTEND;TZID=UTC:20250228T150000
DTSTAMP:20260419T124705
CREATED:20250211T212739Z
LAST-MODIFIED:20250211T212739Z
UID:10002423-1740749400-1740754800@palmettohallhhi.com
SUMMARY:PHWC Operation Turbo - Notes of Gratitude
DESCRIPTION:
URL:https://palmettohallhhi.com/event/phwc-operation-turbo-notes-of-gratitude/
LOCATION:324 Ft Howell Drive
ORGANIZER;CN="Debbie Dusenberry":MAILTO:debbie.dusenberry2@gmail.com
END:VEVENT
END:VCALENDAR