BEGIN:VCALENDAR
VERSION:2.0
PRODID:-//Palmetto Hall POA - ECPv6.6.4//NONSGML v1.0//EN
CALSCALE:GREGORIAN
METHOD:PUBLISH
X-WR-CALNAME:Palmetto Hall POA
X-ORIGINAL-URL:https://palmettohallhhi.com
X-WR-CALDESC:Events for Palmetto Hall POA
REFRESH-INTERVAL;VALUE=DURATION:PT1H
X-Robots-Tag:noindex
X-PUBLISHED-TTL:PT1H
BEGIN:VTIMEZONE
TZID:UTC
BEGIN:STANDARD
TZOFFSETFROM:+0000
TZOFFSETTO:+0000
TZNAME:UTC
DTSTART:20250101T000000
END:STANDARD
END:VTIMEZONE
BEGIN:VEVENT
DTSTART;TZID=UTC:20250312T103000
DTEND;TZID=UTC:20250312T113000
DTSTAMP:20260419T124537
CREATED:20250114T203445Z
LAST-MODIFIED:20250114T203445Z
UID:10001748-1741775400-1741779000@palmettohallhhi.com
SUMMARY:CPR Training
DESCRIPTION:
URL:https://palmettohallhhi.com/event/cpr-training/
LOCATION:HHI Firestation
END:VEVENT
END:VCALENDAR