BEGIN:VCALENDAR
VERSION:2.0
PRODID:-//Palmetto Hall POA - ECPv6.6.4//NONSGML v1.0//EN
CALSCALE:GREGORIAN
METHOD:PUBLISH
X-ORIGINAL-URL:https://palmettohallhhi.com
X-WR-CALDESC:Events for Palmetto Hall POA
REFRESH-INTERVAL;VALUE=DURATION:PT1H
X-Robots-Tag:noindex
X-PUBLISHED-TTL:PT1H
BEGIN:VTIMEZONE
TZID:UTC
BEGIN:STANDARD
TZOFFSETFROM:+0000
TZOFFSETTO:+0000
TZNAME:UTC
DTSTART:20250101T000000
END:STANDARD
END:VTIMEZONE
BEGIN:VEVENT
DTSTART;TZID=UTC:20250317T090000
DTEND;TZID=UTC:20250317T100000
DTSTAMP:20260419T124625
CREATED:20250124T195959Z
LAST-MODIFIED:20250124T200250Z
UID:10001885-1742202000-1742205600@palmettohallhhi.com
SUMMARY:ARB Meeting
DESCRIPTION:
URL:https://palmettohallhhi.com/event/arb-meeting/2025-03-17/
LOCATION:Palmetto Hall POA Office
END:VEVENT
BEGIN:VEVENT
DTSTART;TZID=UTC:20250317T130000
DTEND;TZID=UTC:20250317T143000
DTSTAMP:20260419T124625
CREATED:20241030T131131Z
LAST-MODIFIED:20250716T140632Z
UID:10000914-1742216400-1742221800@palmettohallhhi.com
SUMMARY:PHWC Monday Afternoon Book Club
DESCRIPTION:
URL:https://palmettohallhhi.com/event/monday-afternoon-book-club/2025-03-17/
LOCATION:venue rotates between members homes
END:VEVENT
END:VCALENDAR