BEGIN:VCALENDAR
VERSION:2.0
PRODID:-//Palmetto Hall POA - ECPv6.6.4//NONSGML v1.0//EN
CALSCALE:GREGORIAN
METHOD:PUBLISH
X-WR-CALNAME:Palmetto Hall POA
X-ORIGINAL-URL:https://palmettohallhhi.com
X-WR-CALDESC:Events for Palmetto Hall POA
REFRESH-INTERVAL;VALUE=DURATION:PT1H
X-Robots-Tag:noindex
X-PUBLISHED-TTL:PT1H
BEGIN:VTIMEZONE
TZID:UTC
BEGIN:STANDARD
TZOFFSETFROM:+0000
TZOFFSETTO:+0000
TZNAME:UTC
DTSTART:20250101T000000
END:STANDARD
END:VTIMEZONE
BEGIN:VEVENT
DTSTART;TZID=UTC:20250421T090000
DTEND;TZID=UTC:20250421T100000
DTSTAMP:20260421T100945
CREATED:20250124T195959Z
LAST-MODIFIED:20250124T200250Z
UID:10001886-1745226000-1745229600@palmettohallhhi.com
SUMMARY:ARB Meeting
DESCRIPTION:
URL:https://palmettohallhhi.com/event/arb-meeting/2025-04-21/
LOCATION:Palmetto Hall POA Office
END:VEVENT
BEGIN:VEVENT
DTSTART;TZID=UTC:20250421T130000
DTEND;TZID=UTC:20250421T143000
DTSTAMP:20260421T100945
CREATED:20241030T131131Z
LAST-MODIFIED:20250716T140632Z
UID:10000915-1745240400-1745245800@palmettohallhhi.com
SUMMARY:PHWC Monday Afternoon Book Club
DESCRIPTION:
URL:https://palmettohallhhi.com/event/monday-afternoon-book-club/2025-04-21/
LOCATION:venue rotates between members homes
END:VEVENT
BEGIN:VEVENT
DTSTART;TZID=UTC:20250421T133000
DTEND;TZID=UTC:20250421T143000
DTSTAMP:20260421T100945
CREATED:20250311T231353Z
LAST-MODIFIED:20250311T231353Z
UID:10002427-1745242200-1745245800@palmettohallhhi.com
SUMMARY:Understanding Scams & Identity Theft
DESCRIPTION:
URL:https://palmettohallhhi.com/event/understanding-scams-identity-theft/
ORGANIZER;CN="Debbie Dusenberry":MAILTO:debbie.dusenberry2@gmail.com
END:VEVENT
BEGIN:VEVENT
DTSTART;TZID=UTC:20250421T133000
DTEND;TZID=UTC:20250421T143000
DTSTAMP:20260421T100945
CREATED:20250315T224717Z
LAST-MODIFIED:20250315T224717Z
UID:10002428-1745242200-1745245800@palmettohallhhi.com
SUMMARY:Understanding Scams & Identity Theft
DESCRIPTION:
URL:https://palmettohallhhi.com/event/understanding-scams-identity-theft-2/
LOCATION:Hilton Head Library\, 11 Beach City Road\, Hilton Head Island\, SC\, 29926
ORGANIZER;CN="Debbie Dusenberry":MAILTO:debbie.dusenberry2@gmail.com
END:VEVENT
END:VCALENDAR