BEGIN:VCALENDAR
VERSION:2.0
PRODID:-//Palmetto Hall POA - ECPv6.6.4//NONSGML v1.0//EN
CALSCALE:GREGORIAN
METHOD:PUBLISH
X-WR-CALNAME:Palmetto Hall POA
X-ORIGINAL-URL:https://palmettohallhhi.com
X-WR-CALDESC:Events for Palmetto Hall POA
REFRESH-INTERVAL;VALUE=DURATION:PT1H
X-Robots-Tag:noindex
X-PUBLISHED-TTL:PT1H
BEGIN:VTIMEZONE
TZID:America/New_York
BEGIN:DAYLIGHT
TZOFFSETFROM:-0500
TZOFFSETTO:-0400
TZNAME:EDT
DTSTART:20240310T070000
END:DAYLIGHT
BEGIN:STANDARD
TZOFFSETFROM:-0400
TZOFFSETTO:-0500
TZNAME:EST
DTSTART:20241103T060000
END:STANDARD
TZID:UTC
BEGIN:STANDARD
TZOFFSETFROM:+0000
TZOFFSETTO:+0000
TZNAME:UTC
DTSTART:20240101T000000
END:STANDARD
END:VTIMEZONE
BEGIN:VEVENT
DTSTART;TZID=America/New_York:20240607T070000
DTEND;TZID=America/New_York:20240610T170000
DTSTAMP:20260420T030845
CREATED:20240912T233314Z
LAST-MODIFIED:20240913T033007Z
UID:10000016-1717743600-1718038800@palmettohallhhi.com
SUMMARY:Community Cleanup
DESCRIPTION:Community Cleanup\nDebris Pickup 7:00 AM\, June 10th
URL:https://palmettohallhhi.com/event/community-cleanup/
LOCATION:Palmetto Hall Clubhouse\, 108 Fort Howell Drive\, Hilton Head Island\, SC\, 29926\, United States
ATTACH;FMTTYPE=image/png:https://palmettohallhhi.com/wp-content/uploads/2024/09/clean-up.png
END:VEVENT
BEGIN:VEVENT
DTSTART;TZID=America/New_York:20240607T130000
DTEND;TZID=America/New_York:20240607T170000
DTSTAMP:20260420T030845
CREATED:20240912T234516Z
LAST-MODIFIED:20240913T032919Z
UID:10000017-1717765200-1717779600@palmettohallhhi.com
SUMMARY:Operation Turbo Notes of Gratitude
DESCRIPTION:Operation Turbo Notes of Gratitude\n1:00 PM Club Banquet Room\nOT Notes of Gratitude Guidelines
URL:https://palmettohallhhi.com/event/operation-turbo-notes-of-gratitude/
LOCATION:Palmetto Hall Clubhouse\, 108 Fort Howell Drive\, Hilton Head Island\, SC\, 29926\, United States
ATTACH;FMTTYPE=image/png:https://palmettohallhhi.com/wp-content/uploads/2024/09/Screen-Shot-2024-09-12-at-7.43.51-PM.png
END:VEVENT
BEGIN:VEVENT
DTSTART;TZID=America/New_York:20240619T113000
DTEND;TZID=America/New_York:20240619T123000
DTSTAMP:20260420T030845
CREATED:20240912T235100Z
LAST-MODIFIED:20240913T032738Z
UID:10000018-1718796600-1718800200@palmettohallhhi.com
SUMMARY:PHWC – Ladies Who Lunch
DESCRIPTION:PHWC – Ladies Who Lunch\nTime varies between 11:30-12:30
URL:https://palmettohallhhi.com/event/phwc-ladies-who-lunch/
LOCATION:Palmetto Hall Clubhouse\, 108 Fort Howell Drive\, Hilton Head Island\, SC\, 29926\, United States
ATTACH;FMTTYPE=image/jpeg:https://palmettohallhhi.com/wp-content/uploads/2024/09/4-Women-Group-Photo-resized-.jpg
END:VEVENT
BEGIN:VEVENT
DTSTART;TZID=America/New_York:20240620T180000
DTEND;TZID=America/New_York:20240620T200000
DTSTAMP:20260420T030845
CREATED:20240912T235311Z
LAST-MODIFIED:20240913T032655Z
UID:10000019-1718906400-1718913600@palmettohallhhi.com
SUMMARY:Monthly BOD Meeting
DESCRIPTION:Monthly BOD Meeting\n6:00 PM Club Banquet Room
URL:https://palmettohallhhi.com/event/monthly-bod-meeting/
LOCATION:Palmetto Hall Clubhouse\, 108 Fort Howell Drive\, Hilton Head Island\, SC\, 29926\, United States
ATTACH;FMTTYPE=image/jpeg:https://palmettohallhhi.com/wp-content/uploads/2024/09/Clubhouse-Cropped.jpg
END:VEVENT
BEGIN:VEVENT
DTSTART;TZID=UTC:20240624T170000
DTEND;TZID=UTC:20240624T190000
DTSTAMP:20260420T030845
CREATED:20240913T000604Z
LAST-MODIFIED:20240913T004523Z
UID:10000022-1719248400-1719255600@palmettohallhhi.com
SUMMARY:PHWC Early Bird & Banter
DESCRIPTION:PHWC Early Bird & Banter\nTime Varies – typically around 5:oo p.m.
URL:https://palmettohallhhi.com/event/phwc-early-bird-banter/
ATTACH;FMTTYPE=image/jpeg:https://palmettohallhhi.com/wp-content/uploads/2024/09/366341725_773443028115779_6657552821989703944_n.jpg
END:VEVENT
END:VCALENDAR