BEGIN:VCALENDAR
VERSION:2.0
PRODID:-//Palmetto Hall POA - ECPv6.6.4//NONSGML v1.0//EN
CALSCALE:GREGORIAN
METHOD:PUBLISH
X-WR-CALNAME:Palmetto Hall POA
X-ORIGINAL-URL:https://palmettohallhhi.com
X-WR-CALDESC:Events for Palmetto Hall POA
REFRESH-INTERVAL;VALUE=DURATION:PT1H
X-Robots-Tag:noindex
X-PUBLISHED-TTL:PT1H
BEGIN:VTIMEZONE
TZID:America/New_York
BEGIN:DAYLIGHT
TZOFFSETFROM:-0500
TZOFFSETTO:-0400
TZNAME:EDT
DTSTART:20240310T070000
END:DAYLIGHT
BEGIN:STANDARD
TZOFFSETFROM:-0400
TZOFFSETTO:-0500
TZNAME:EST
DTSTART:20241103T060000
END:STANDARD
END:VTIMEZONE
BEGIN:VEVENT
DTSTART;TZID=America/New_York:20240701T090000
DTEND;TZID=America/New_York:20240701T100000
DTSTAMP:20260419T235156
CREATED:20240913T004920Z
LAST-MODIFIED:20240913T035427Z
UID:10000023-1719824400-1719828000@palmettohallhhi.com
SUMMARY:ARB Meeting
DESCRIPTION:ARB Meeting\n9:00 AM at the POA Office\nSubmission Deadline for July 15th Meeting
URL:https://palmettohallhhi.com/event/arb-meeting-2/
LOCATION:Palmetto Hall POA Office
ATTACH;FMTTYPE=image/png:https://palmettohallhhi.com/wp-content/uploads/2024/09/Screen-Shot-2024-09-12-at-8.00.33-PM.png
END:VEVENT
BEGIN:VEVENT
DTSTART;TZID=America/New_York:20240704T110000
DTEND;TZID=America/New_York:20240704T140000
DTSTAMP:20260419T235156
CREATED:20240913T005714Z
LAST-MODIFIED:20240913T035359Z
UID:10000024-1720090800-1720101600@palmettohallhhi.com
SUMMARY:Golf Cart Parade and Pool Party
DESCRIPTION:Golf Cart Parade and Pool Party\n11:00 at the Club’s Member Parking Lot\nFourth of July Cookout PH
URL:https://palmettohallhhi.com/event/golf-cart-parade-and-pool-party/
LOCATION:Palmetto Hall Clubhouse\, 108 Fort Howell Drive\, Hilton Head Island\, SC\, 29926\, United States
ATTACH;FMTTYPE=image/jpeg:https://palmettohallhhi.com/wp-content/uploads/2024/09/450024888_1656596551838154_818893707892734475_n.jpg
END:VEVENT
BEGIN:VEVENT
DTSTART;TZID=America/New_York:20240706T080000
DTEND;TZID=America/New_York:20240706T170000
DTSTAMP:20260419T235156
CREATED:20240913T010315Z
LAST-MODIFIED:20240913T035332Z
UID:10000025-1720252800-1720285200@palmettohallhhi.com
SUMMARY:WGA/MGA Independence Day Golf Flag Tournament
DESCRIPTION:WGA/MGA Independence Day Golf Flag Tournament
URL:https://palmettohallhhi.com/event/wga-mga-independence-day-golf-flag-tournament/
LOCATION:Palmetto Hall Clubhouse\, 108 Fort Howell Drive\, Hilton Head Island\, SC\, 29926\, United States
ATTACH;FMTTYPE=image/jpeg:https://palmettohallhhi.com/wp-content/uploads/2024/09/457326657_1042449974548415_8252376177764109717_n.jpg
END:VEVENT
BEGIN:VEVENT
DTSTART;TZID=America/New_York:20240709T153000
DTEND;TZID=America/New_York:20240709T170000
DTSTAMP:20260419T235156
CREATED:20240913T010607Z
LAST-MODIFIED:20240913T035305Z
UID:10000026-1720539000-1720544400@palmettohallhhi.com
SUMMARY:PHWC Program Meeting
DESCRIPTION:PHWC Program Meeting\n3:30 Club House Conference Room
URL:https://palmettohallhhi.com/event/phwc-program-meeting/
ATTACH;FMTTYPE=image/jpeg:https://palmettohallhhi.com/wp-content/uploads/2024/09/Clubhouse-Cropped.jpg
END:VEVENT
BEGIN:VEVENT
DTSTART;TZID=America/New_York:20240715T090000
DTEND;TZID=America/New_York:20240715T110000
DTSTAMP:20260419T235156
CREATED:20240913T013410Z
LAST-MODIFIED:20240913T035217Z
UID:10000027-1721034000-1721041200@palmettohallhhi.com
SUMMARY:ARB Meeting
DESCRIPTION:ARB Meeting\n9:00 AM at the POA Office\nSubmission Deadline for August 5th Meeting
URL:https://palmettohallhhi.com/event/arb-meeting-3/
LOCATION:Palmetto Hall POA Office
ATTACH;FMTTYPE=image/png:https://palmettohallhhi.com/wp-content/uploads/2024/09/Screen-Shot-2024-09-12-at-8.00.33-PM.png
END:VEVENT
BEGIN:VEVENT
DTSTART;TZID=America/New_York:20240729T170000
DTEND;TZID=America/New_York:20240729T190000
DTSTAMP:20260419T235156
CREATED:20240913T015251Z
LAST-MODIFIED:20240913T035149Z
UID:10000028-1722272400-1722279600@palmettohallhhi.com
SUMMARY:PHWC Early Bird & Banter
DESCRIPTION:PHWC Early Bird & Banter\nTime varies typically around 5:00 p.m.
URL:https://palmettohallhhi.com/event/phwc-early-bird-banter-2/
LOCATION:Palmetto Hall Clubhouse\, 108 Fort Howell Drive\, Hilton Head Island\, SC\, 29926\, United States
ATTACH;FMTTYPE=image/jpeg:https://palmettohallhhi.com/wp-content/uploads/2024/09/Clubhouse-Cropped.jpg
END:VEVENT
END:VCALENDAR