BEGIN:VCALENDAR
VERSION:2.0
PRODID:-//Palmetto Hall POA - ECPv6.6.4//NONSGML v1.0//EN
CALSCALE:GREGORIAN
METHOD:PUBLISH
X-ORIGINAL-URL:https://palmettohallhhi.com
X-WR-CALDESC:Events for Palmetto Hall POA
REFRESH-INTERVAL;VALUE=DURATION:PT1H
X-Robots-Tag:noindex
X-PUBLISHED-TTL:PT1H
BEGIN:VTIMEZONE
TZID:America/New_York
BEGIN:DAYLIGHT
TZOFFSETFROM:-0500
TZOFFSETTO:-0400
TZNAME:EDT
DTSTART:20240310T070000
END:DAYLIGHT
BEGIN:STANDARD
TZOFFSETFROM:-0400
TZOFFSETTO:-0500
TZNAME:EST
DTSTART:20241103T060000
END:STANDARD
END:VTIMEZONE
BEGIN:VEVENT
DTSTART;TZID=America/New_York:20240805T090000
DTEND;TZID=America/New_York:20240805T110000
DTSTAMP:20260419T221243
CREATED:20240913T021214Z
LAST-MODIFIED:20240913T035126Z
UID:10000030-1722848400-1722855600@palmettohallhhi.com
SUMMARY:ARB Meeting
DESCRIPTION:ARB Meeting\n9:00 AM at the POA Office\nSubmission Deadline for August 19th Meeting
URL:https://palmettohallhhi.com/event/arb-meeting-4/
LOCATION:Palmetto Hall POA Office
ATTACH;FMTTYPE=image/png:https://palmettohallhhi.com/wp-content/uploads/2024/09/Screen-Shot-2024-09-12-at-8.00.33-PM.png
END:VEVENT
BEGIN:VEVENT
DTSTART;TZID=America/New_York:20240815T160000
DTEND;TZID=America/New_York:20240815T180000
DTSTAMP:20260419T221243
CREATED:20240913T023350Z
LAST-MODIFIED:20240913T035023Z
UID:10000031-1723737600-1723744800@palmettohallhhi.com
SUMMARY:PHWC – Luau Membership Drive Party
DESCRIPTION:PHWC – Luau Membership Drive Party\n4:00 – 6:00 – 10 Sedge Fern Drive
URL:https://palmettohallhhi.com/event/phwc-luau-membership-drive-party/
ATTACH;FMTTYPE=image/jpeg:https://palmettohallhhi.com/wp-content/uploads/2024/09/455672786_1260957741939808_7940637087705676919_n.jpg
END:VEVENT
BEGIN:VEVENT
DTSTART;TZID=America/New_York:20240816T080000
DTEND;TZID=America/New_York:20240816T170000
DTSTAMP:20260419T221243
CREATED:20240913T024021Z
LAST-MODIFIED:20240913T035102Z
UID:10000032-1723795200-1723827600@palmettohallhhi.com
SUMMARY:Monthly BOD Meeting
DESCRIPTION:Monthly BOD Meeting\n8:00 AM\, Club Banquet Room
URL:https://palmettohallhhi.com/event/monthly-bod-meeting-2/
LOCATION:Palmetto Hall Clubhouse\, 108 Fort Howell Drive\, Hilton Head Island\, SC\, 29926\, United States
ATTACH;FMTTYPE=image/jpeg:https://palmettohallhhi.com/wp-content/uploads/2024/09/Clubhouse-Cropped.jpg
END:VEVENT
BEGIN:VEVENT
DTSTART;TZID=America/New_York:20240819T080000
DTEND;TZID=America/New_York:20240819T170000
DTSTAMP:20260419T221243
CREATED:20240913T024227Z
LAST-MODIFIED:20240913T034915Z
UID:10000033-1724054400-1724086800@palmettohallhhi.com
SUMMARY:ARB Meeting
DESCRIPTION:ARB Meeting\n9:00 AM at the POA Office\nSubmission Deadline for August 19th Meeting
URL:https://palmettohallhhi.com/event/arb-meeting-5/
LOCATION:Palmetto Hall POA Office
ATTACH;FMTTYPE=image/png:https://palmettohallhhi.com/wp-content/uploads/2024/09/Screen-Shot-2024-09-12-at-8.00.33-PM.png
END:VEVENT
BEGIN:VEVENT
DTSTART;TZID=America/New_York:20240821T123000
DTEND;TZID=America/New_York:20240821T143000
DTSTAMP:20260419T221243
CREATED:20240913T025524Z
LAST-MODIFIED:20240913T034827Z
UID:10000034-1724243400-1724250600@palmettohallhhi.com
SUMMARY:PHWC – Ladies Who Lunch
DESCRIPTION:PHWC – Ladies Who Lunch\nElsa’s On The Water – 1 Shelter Cove Lane\, 12:30 PM
URL:https://palmettohallhhi.com/event/phwc-ladies-who-lunch-2/
LOCATION:ELA’S on the Water\, 1 Shelter Cove Lane\, Hilton Head Island\, SC\, 29928\, United States
ATTACH;FMTTYPE=image/jpeg:https://palmettohallhhi.com/wp-content/uploads/2024/09/image-asset.jpeg
END:VEVENT
BEGIN:VEVENT
DTSTART;TZID=America/New_York:20240826T170000
DTEND;TZID=America/New_York:20240826T190000
DTSTAMP:20260419T221243
CREATED:20240913T031846Z
LAST-MODIFIED:20240913T031924Z
UID:10000035-1724691600-1724698800@palmettohallhhi.com
SUMMARY:PHWC – Early Bird & Banter
DESCRIPTION:PHWC – Early Bird & Banter\nMonday\, July 29th\, Catch 22 – 5:00 PM
URL:https://palmettohallhhi.com/event/phwc-early-bird-banter-3/
LOCATION:Catch 22\, 37 New Orleans Rd\, Hilton Head Island\, SC\, 29928\, United States
ATTACH;FMTTYPE=image/jpeg:https://palmettohallhhi.com/wp-content/uploads/2024/09/catch22.jpg
END:VEVENT
END:VCALENDAR