BEGIN:VCALENDAR
VERSION:2.0
PRODID:-//Palmetto Hall POA - ECPv6.6.4//NONSGML v1.0//EN
CALSCALE:GREGORIAN
METHOD:PUBLISH
X-ORIGINAL-URL:https://palmettohallhhi.com
X-WR-CALDESC:Events for Palmetto Hall POA
REFRESH-INTERVAL;VALUE=DURATION:PT1H
X-Robots-Tag:noindex
X-PUBLISHED-TTL:PT1H
BEGIN:VTIMEZONE
TZID:America/New_York
BEGIN:DAYLIGHT
TZOFFSETFROM:-0500
TZOFFSETTO:-0400
TZNAME:EDT
DTSTART:20240310T070000
END:DAYLIGHT
BEGIN:STANDARD
TZOFFSETFROM:-0400
TZOFFSETTO:-0500
TZNAME:EST
DTSTART:20241103T060000
END:STANDARD
TZID:UTC
BEGIN:STANDARD
TZOFFSETFROM:+0000
TZOFFSETTO:+0000
TZNAME:UTC
DTSTART:20240101T000000
END:STANDARD
END:VTIMEZONE
BEGIN:VEVENT
DTSTART;TZID=America/New_York:20241001T140000
DTEND;TZID=America/New_York:20241001T160000
DTSTAMP:20260419T190742
CREATED:20240913T122844Z
LAST-MODIFIED:20240913T122950Z
UID:10000045-1727791200-1727798400@palmettohallhhi.com
SUMMARY:PHWC Pumpkin Painting Workshop
DESCRIPTION:PHWC Pumpkin Painting Workshop\n2:00-4:00 PM – Sailing & Rowing Center at Squire Pope Community Park
URL:https://palmettohallhhi.com/event/phwc-pumpkin-painting-workshop/
LOCATION:Sailing & Rowing Center at Squire Pope Community Park\, 137 Squire Pope Rd\, Hilton Head island\, SC\, 29926\, United States
ATTACH;FMTTYPE=image/jpeg:https://palmettohallhhi.com/wp-content/uploads/2024/09/brian-wegman-HE2d6t5fJu4-unsplash.jpg
END:VEVENT
BEGIN:VEVENT
DTSTART;TZID=America/New_York:20241007T090000
DTEND;TZID=America/New_York:20241007T110000
DTSTAMP:20260419T190742
CREATED:20240913T123143Z
LAST-MODIFIED:20240913T123143Z
UID:10000046-1728291600-1728298800@palmettohallhhi.com
SUMMARY:ARB Meeting
DESCRIPTION:ARB Meeting\n9:00 AM at the POA Office\nSubmission Deadline for October 21st  Meeting
URL:https://palmettohallhhi.com/event/arb-meeting-7/
LOCATION:Palmetto Hall POA Office
ATTACH;FMTTYPE=image/png:https://palmettohallhhi.com/wp-content/uploads/2024/09/Screen-Shot-2024-09-12-at-8.00.33-PM.png
END:VEVENT
BEGIN:VEVENT
DTSTART;TZID=America/New_York:20241011T100000
DTEND;TZID=America/New_York:20241011T120000
DTSTAMP:20260419T190742
CREATED:20241007T001026Z
LAST-MODIFIED:20241007T004212Z
UID:10000066-1728640800-1728648000@palmettohallhhi.com
SUMMARY:PHWC Fall Wreath
DESCRIPTION:PHWC Fall Wreath at Wimbee Farms\nOctober 11th – 10:00 AM
URL:https://palmettohallhhi.com/event/phwc-fall-wreath/
LOCATION:Wimbee Farms\, 84 Coakley Dr\, Seabrook\, 29940\, United States
CATEGORIES:PHWC
ATTACH;FMTTYPE=image/jpeg:https://palmettohallhhi.com/wp-content/uploads/2024/10/mel-poole-rmB_CohXV9s-unsplash.jpg
END:VEVENT
BEGIN:VEVENT
DTSTART;TZID=UTC:20241016T113000
DTEND;TZID=UTC:20241016T123000
DTSTAMP:20260419T190742
CREATED:20240913T123307Z
LAST-MODIFIED:20240913T123330Z
UID:10000047-1729078200-1729081800@palmettohallhhi.com
SUMMARY:PHWC Ladies Who Lunch
DESCRIPTION:PHWC Ladies Who Lunch\nVaries from 11:30 to 12:30
URL:https://palmettohallhhi.com/event/phwc-ladies-who-lunch-3/
ATTACH;FMTTYPE=image/jpeg:https://palmettohallhhi.com/wp-content/uploads/2024/09/catch22.jpg
END:VEVENT
BEGIN:VEVENT
DTSTART;TZID=UTC:20241017T093000
DTEND;TZID=UTC:20241017T233000
DTSTAMP:20260419T190742
CREATED:20240923T192043Z
LAST-MODIFIED:20240923T192043Z
UID:10000064-1729157400-1729207800@palmettohallhhi.com
SUMMARY:PHWC Blue Crab Discovery Event
DESCRIPTION:PHWC Blue Crab Discovery Event\n9:30 on October 17th
URL:https://palmettohallhhi.com/event/phwc-blue-crab-discovery-event/
ATTACH;FMTTYPE=image/jpeg:https://palmettohallhhi.com/wp-content/uploads/2024/09/fellipe-ditadi-WEbUiZDhAb4-unsplash.jpg
END:VEVENT
BEGIN:VEVENT
DTSTART;TZID=America/New_York:20241018T080000
DTEND;TZID=America/New_York:20241018T100000
DTSTAMP:20260419T190742
CREATED:20240913T143401Z
LAST-MODIFIED:20240913T143401Z
UID:10000048-1729238400-1729245600@palmettohallhhi.com
SUMMARY:Monthly BOD Meeting
DESCRIPTION:Monthly BOD Meeting\n8:00 AM \, Club Banquet Room
URL:https://palmettohallhhi.com/event/monthly-bod-meeting-4/
ATTACH;FMTTYPE=image/jpeg:https://palmettohallhhi.com/wp-content/uploads/2024/09/Clubhouse-Cropped.jpg
END:VEVENT
BEGIN:VEVENT
DTSTART;TZID=UTC:20241021T090000
DTEND;TZID=UTC:20241021T110000
DTSTAMP:20260419T190742
CREATED:20240913T143518Z
LAST-MODIFIED:20240913T143518Z
UID:10000049-1729501200-1729508400@palmettohallhhi.com
SUMMARY:ARB Meeting
DESCRIPTION:ARB Meeting\n9:00 AM at the POA Office\nSubmission Deadline for November 4th  Meeting
URL:https://palmettohallhhi.com/event/arb-meeting-8/
LOCATION:Palmetto Hall POA Office
ATTACH;FMTTYPE=image/png:https://palmettohallhhi.com/wp-content/uploads/2024/09/Screen-Shot-2024-09-12-at-8.00.33-PM.png
END:VEVENT
BEGIN:VEVENT
DTSTART;TZID=UTC:20241023T140000
DTEND;TZID=UTC:20241023T150000
DTSTAMP:20260419T190742
CREATED:20241007T000457Z
LAST-MODIFIED:20241007T000457Z
UID:10000065-1729692000-1729695600@palmettohallhhi.com
SUMMARY:PHWC CPR AED Class
DESCRIPTION:PHWC CPR AED Class\nOctober 23rd\n2:00 PM
URL:https://palmettohallhhi.com/event/phwc-cpr-aed-class/
LOCATION:Palmetto Hall Clubhouse\, 108 Fort Howell Drive\, Hilton Head Island\, SC\, 29926\, United States
CATEGORIES:PHWC
ATTACH;FMTTYPE=image/jpeg:https://palmettohallhhi.com/wp-content/uploads/2024/10/christie-chau-GsP8sJzYrsY-unsplash.jpg
END:VEVENT
BEGIN:VEVENT
DTSTART;TZID=America/New_York:20241025T170000
DTEND;TZID=America/New_York:20241025T200000
DTSTAMP:20260419T190742
CREATED:20240913T155924Z
LAST-MODIFIED:20240913T161133Z
UID:10000050-1729875600-1729886400@palmettohallhhi.com
SUMMARY:Community Event – Fall Festival
DESCRIPTION:Community Event – Fall Festival\nClubhouse Time 5:00 PM
URL:https://palmettohallhhi.com/event/community-event-fall-festival/
LOCATION:Palmetto Hall Clubhouse\, 108 Fort Howell Drive\, Hilton Head Island\, SC\, 29926\, United States
ATTACH;FMTTYPE=image/jpeg:https://palmettohallhhi.com/wp-content/uploads/2024/09/fall-festival.jpg
END:VEVENT
BEGIN:VEVENT
DTSTART;TZID=America/New_York:20241028T150000
DTEND;TZID=America/New_York:20241028T160000
DTSTAMP:20260419T190742
CREATED:20241007T001252Z
LAST-MODIFIED:20241007T004425Z
UID:10000067-1730127600-1730131200@palmettohallhhi.com
SUMMARY:PHWC Program Meeting
DESCRIPTION:PHWC Program Meeting\nOctober 28th at 3:00 PM
URL:https://palmettohallhhi.com/event/phwc-program-meeting-2/
LOCATION:ELA’S on the Water\, 1 Shelter Cove Lane\, Hilton Head Island\, SC\, 29928\, United States
CATEGORIES:PHWC
ATTACH;FMTTYPE=image/jpeg:https://palmettohallhhi.com/wp-content/uploads/2024/09/Clubhouse-Cropped.jpg
END:VEVENT
BEGIN:VEVENT
DTSTART;TZID=America/New_York:20241028T170000
DTEND;TZID=America/New_York:20241028T190000
DTSTAMP:20260419T190742
CREATED:20240913T161257Z
LAST-MODIFIED:20240913T161354Z
UID:10000051-1730134800-1730142000@palmettohallhhi.com
SUMMARY:PHWC Early Bird & Banter
DESCRIPTION:PHWC Early Bird & Banter\n5:00 PM
URL:https://palmettohallhhi.com/event/phwc-early-bird-banter-5/
LOCATION:Palmetto Hall Clubhouse\, 108 Fort Howell Drive\, Hilton Head Island\, SC\, 29926\, United States
ATTACH;FMTTYPE=image/jpeg:https://palmettohallhhi.com/wp-content/uploads/2024/09/Clubhouse-Cropped.jpg
END:VEVENT
BEGIN:VEVENT
DTSTART;TZID=UTC:20241028T190000
DTEND;TZID=UTC:20241028T210000
DTSTAMP:20260419T190742
CREATED:20241030T124558Z
LAST-MODIFIED:20250716T140936Z
UID:10000729-1730142000-1730149200@palmettohallhhi.com
SUMMARY:PHWC Night Owls Book Club
DESCRIPTION:
URL:https://palmettohallhhi.com/event/night-owls-book-club/2024-10-28/
LOCATION:venue rotates between members homes
ORGANIZER;CN="Barb Likos":MAILTO:barblikos@gmail.com
END:VEVENT
END:VCALENDAR