BEGIN:VCALENDAR
VERSION:2.0
PRODID:-//Palmetto Hall POA - ECPv6.6.4//NONSGML v1.0//EN
CALSCALE:GREGORIAN
METHOD:PUBLISH
X-ORIGINAL-URL:https://palmettohallhhi.com
X-WR-CALDESC:Events for Palmetto Hall POA
REFRESH-INTERVAL;VALUE=DURATION:PT1H
X-Robots-Tag:noindex
X-PUBLISHED-TTL:PT1H
BEGIN:VTIMEZONE
TZID:UTC
BEGIN:STANDARD
TZOFFSETFROM:+0000
TZOFFSETTO:+0000
TZNAME:UTC
DTSTART:20250101T000000
END:STANDARD
END:VTIMEZONE
BEGIN:VEVENT
DTSTART;TZID=UTC:20250101T080000
DTEND;TZID=UTC:20250101T170000
DTSTAMP:20260419T142141
CREATED:20241030T184302Z
LAST-MODIFIED:20241030T184302Z
UID:10001606-1735718400-1735750800@palmettohallhhi.com
SUMMARY:PHWGA NY Day Shootout
DESCRIPTION:
URL:https://palmettohallhhi.com/event/phwga-ny-day-shootout/
LOCATION:Heritage Golf Course
END:VEVENT
BEGIN:VEVENT
DTSTART;TZID=UTC:20250101T140000
DTEND;TZID=UTC:20250101T170000
DTSTAMP:20260419T142141
CREATED:20241030T131503Z
LAST-MODIFIED:20250716T135239Z
UID:10000972-1735740000-1735750800@palmettohallhhi.com
SUMMARY:PHWC Chapters & Chats Book Club
DESCRIPTION:
URL:https://palmettohallhhi.com/event/chapters-chats-book-club/2025-01-01/
LOCATION:venue rotates between members homes
ORGANIZER;CN="Nancy Sigmund":MAILTO:nsiggy410@gmail.com
END:VEVENT
BEGIN:VEVENT
DTSTART;TZID=UTC:20250113T133000
DTEND;TZID=UTC:20250113T150000
DTSTAMP:20260419T142141
CREATED:20241030T131943Z
LAST-MODIFIED:20250716T134911Z
UID:10001032-1736775000-1736780400@palmettohallhhi.com
SUMMARY:PHWC Books & Beyond Book Club
DESCRIPTION:
URL:https://palmettohallhhi.com/event/books-beyond-book-club/2025-01-13/
LOCATION:Palmetto Hall Clubhouse\, 108 Fort Howell Drive\, Hilton Head Island\, SC\, 29926\, United States
END:VEVENT
BEGIN:VEVENT
DTSTART;TZID=UTC:20250116T133000
DTEND;TZID=UTC:20250116T150000
DTSTAMP:20260419T142141
CREATED:20241030T130504Z
LAST-MODIFIED:20250716T134750Z
UID:10000852-1737034200-1737039600@palmettohallhhi.com
SUMMARY:PHWC Cover to Cover Book Club
DESCRIPTION:
URL:https://palmettohallhhi.com/event/cover-to-cover-book-club/2025-01-16/
LOCATION:venue rotates between members homes
END:VEVENT
BEGIN:VEVENT
DTSTART;TZID=UTC:20250120T130000
DTEND;TZID=UTC:20250120T143000
DTSTAMP:20260419T142141
CREATED:20241030T131131Z
LAST-MODIFIED:20250716T140632Z
UID:10000912-1737378000-1737383400@palmettohallhhi.com
SUMMARY:PHWC Monday Afternoon Book Club
DESCRIPTION:
URL:https://palmettohallhhi.com/event/monday-afternoon-book-club/2025-01-20/
LOCATION:venue rotates between members homes
END:VEVENT
BEGIN:VEVENT
DTSTART;TZID=UTC:20250122T130000
DTEND;TZID=UTC:20250122T143000
DTSTAMP:20260419T142141
CREATED:20241030T125223Z
LAST-MODIFIED:20250716T140740Z
UID:10000792-1737550800-1737556200@palmettohallhhi.com
SUMMARY:PHWC Book Mates Book Club
DESCRIPTION:
URL:https://palmettohallhhi.com/event/book-mates-book-club/2025-01-22/
LOCATION:venue rotates between members homes
ORGANIZER;CN="Debbie Dusenberry":MAILTO:debbie.dusenberry2@gmail.com
END:VEVENT
BEGIN:VEVENT
DTSTART;TZID=UTC:20250127T170000
DTEND;TZID=UTC:20250127T190000
DTSTAMP:20260419T142141
CREATED:20241226T214448Z
LAST-MODIFIED:20250716T135034Z
UID:10001628-1737997200-1738004400@palmettohallhhi.com
SUMMARY:PHWC Early Bird & Banter
DESCRIPTION:
URL:https://palmettohallhhi.com/event/early-bird-banter/2025-01-27/
ORGANIZER;CN="Nancy Sigmund":MAILTO:nsiggy410@gmail.com
END:VEVENT
BEGIN:VEVENT
DTSTART;TZID=UTC:20250127T190000
DTEND;TZID=UTC:20250127T210000
DTSTAMP:20260419T142141
CREATED:20241030T124558Z
LAST-MODIFIED:20250716T140936Z
UID:10000732-1738004400-1738011600@palmettohallhhi.com
SUMMARY:PHWC Night Owls Book Club
DESCRIPTION:
URL:https://palmettohallhhi.com/event/night-owls-book-club/2025-01-27/
LOCATION:venue rotates between members homes
ORGANIZER;CN="Barb Likos":MAILTO:barblikos@gmail.com
END:VEVENT
END:VCALENDAR