BEGIN:VCALENDAR
VERSION:2.0
PRODID:-//Palmetto Hall POA - ECPv6.6.4//NONSGML v1.0//EN
CALSCALE:GREGORIAN
METHOD:PUBLISH
X-WR-CALNAME:Palmetto Hall POA
X-ORIGINAL-URL:https://palmettohallhhi.com
X-WR-CALDESC:Events for Palmetto Hall POA
REFRESH-INTERVAL;VALUE=DURATION:PT1H
X-Robots-Tag:noindex
X-PUBLISHED-TTL:PT1H
BEGIN:VTIMEZONE
TZID:UTC
BEGIN:STANDARD
TZOFFSETFROM:+0000
TZOFFSETTO:+0000
TZNAME:UTC
DTSTART:20260101T000000
END:STANDARD
END:VTIMEZONE
BEGIN:VEVENT
DTSTART;TZID=UTC:20260504T180000
DTEND;TZID=UTC:20260504T200000
DTSTAMP:20260425T015923
CREATED:20260424T193100Z
LAST-MODIFIED:20260424T193100Z
UID:10002724-1777917600-1777924800@palmettohallhhi.com
SUMMARY:PHWC Bunco
DESCRIPTION:
URL:https://palmettohallhhi.com/event/phwc-bunco/
ORGANIZER;CN="Ellyn Levin":MAILTO:ellynlevin@gmail.com
END:VEVENT
END:VCALENDAR