BEGIN:VCALENDAR
VERSION:2.0
PRODID:-//Palmetto Hall POA - ECPv6.6.4//NONSGML v1.0//EN
CALSCALE:GREGORIAN
METHOD:PUBLISH
X-ORIGINAL-URL:https://palmettohallhhi.com
X-WR-CALDESC:Events for Palmetto Hall POA
REFRESH-INTERVAL;VALUE=DURATION:PT1H
X-Robots-Tag:noindex
X-PUBLISHED-TTL:PT1H
BEGIN:VTIMEZONE
TZID:UTC
BEGIN:STANDARD
TZOFFSETFROM:+0000
TZOFFSETTO:+0000
TZNAME:UTC
DTSTART:20250101T000000
END:STANDARD
END:VTIMEZONE
BEGIN:VEVENT
DTSTART;TZID=UTC:20260416T133000
DTEND;TZID=UTC:20260416T150000
DTSTAMP:20260419T142615
CREATED:20241030T130504Z
LAST-MODIFIED:20250716T134750Z
UID:10000867-1776346200-1776351600@palmettohallhhi.com
SUMMARY:PHWC Cover to Cover Book Club
DESCRIPTION:
URL:https://palmettohallhhi.com/event/cover-to-cover-book-club/2026-04-16/
LOCATION:venue rotates between members homes
END:VEVENT
BEGIN:VEVENT
DTSTART;TZID=UTC:20260401T140000
DTEND;TZID=UTC:20260401T170000
DTSTAMP:20260419T142615
CREATED:20241030T131503Z
LAST-MODIFIED:20250716T135239Z
UID:10000987-1775052000-1775062800@palmettohallhhi.com
SUMMARY:PHWC Chapters & Chats Book Club
DESCRIPTION:
URL:https://palmettohallhhi.com/event/chapters-chats-book-club/2026-04-01/
LOCATION:venue rotates between members homes
ORGANIZER;CN="Nancy Sigmund":MAILTO:nsiggy410@gmail.com
END:VEVENT
BEGIN:VEVENT
DTSTART;TZID=UTC:20260325T130000
DTEND;TZID=UTC:20260325T143000
DTSTAMP:20260419T142615
CREATED:20241030T125223Z
LAST-MODIFIED:20250716T140740Z
UID:10000806-1774443600-1774449000@palmettohallhhi.com
SUMMARY:PHWC Book Mates Book Club
DESCRIPTION:
URL:https://palmettohallhhi.com/event/book-mates-book-club/2026-03-25/
LOCATION:venue rotates between members homes
ORGANIZER;CN="Debbie Dusenberry":MAILTO:debbie.dusenberry2@gmail.com
END:VEVENT
BEGIN:VEVENT
DTSTART;TZID=UTC:20260323T190000
DTEND;TZID=UTC:20260323T210000
DTSTAMP:20260419T142615
CREATED:20241030T124558Z
LAST-MODIFIED:20250716T140936Z
UID:10000746-1774292400-1774299600@palmettohallhhi.com
SUMMARY:PHWC Night Owls Book Club
DESCRIPTION:
URL:https://palmettohallhhi.com/event/night-owls-book-club/2026-03-23/
LOCATION:venue rotates between members homes
ORGANIZER;CN="Barb Likos":MAILTO:barblikos@gmail.com
END:VEVENT
BEGIN:VEVENT
DTSTART;TZID=UTC:20260319T133000
DTEND;TZID=UTC:20260319T150000
DTSTAMP:20260419T142615
CREATED:20241030T130504Z
LAST-MODIFIED:20250716T134750Z
UID:10000866-1773927000-1773932400@palmettohallhhi.com
SUMMARY:PHWC Cover to Cover Book Club
DESCRIPTION:
URL:https://palmettohallhhi.com/event/cover-to-cover-book-club/2026-03-19/
LOCATION:venue rotates between members homes
END:VEVENT
BEGIN:VEVENT
DTSTART;TZID=UTC:20260316T130000
DTEND;TZID=UTC:20260316T143000
DTSTAMP:20260419T142615
CREATED:20241030T131131Z
LAST-MODIFIED:20250716T140632Z
UID:10000926-1773666000-1773671400@palmettohallhhi.com
SUMMARY:PHWC Monday Afternoon Book Club
DESCRIPTION:
URL:https://palmettohallhhi.com/event/monday-afternoon-book-club/2026-03-16/
LOCATION:venue rotates between members homes
END:VEVENT
BEGIN:VEVENT
DTSTART;TZID=UTC:20260311T180000
DTEND;TZID=UTC:20260311T210000
DTSTAMP:20260419T142615
CREATED:20260126T154001Z
LAST-MODIFIED:20260203T160720Z
UID:10002712-1773252000-1773262800@palmettohallhhi.com
SUMMARY:PHWC Mix and Mingle Neighbors Dinner
DESCRIPTION:Spring Neighbors Dinner 2026 pdf
URL:https://palmettohallhhi.com/event/phwc-mix-and-mingle-neighbors-dinner-2/
LOCATION:venue rotates between members homes
END:VEVENT
BEGIN:VEVENT
DTSTART;TZID=UTC:20260304T140000
DTEND;TZID=UTC:20260304T170000
DTSTAMP:20260419T142615
CREATED:20241030T131503Z
LAST-MODIFIED:20250716T135239Z
UID:10000986-1772632800-1772643600@palmettohallhhi.com
SUMMARY:PHWC Chapters & Chats Book Club
DESCRIPTION:
URL:https://palmettohallhhi.com/event/chapters-chats-book-club/2026-03-04/
LOCATION:venue rotates between members homes
ORGANIZER;CN="Nancy Sigmund":MAILTO:nsiggy410@gmail.com
END:VEVENT
BEGIN:VEVENT
DTSTART;TZID=UTC:20260225T160000
DTEND;TZID=UTC:20260225T180000
DTSTAMP:20260419T142615
CREATED:20260107T154136Z
LAST-MODIFIED:20260107T154157Z
UID:10002690-1772035200-1772042400@palmettohallhhi.com
SUMMARY:PHWGA Sips and Dips
DESCRIPTION:
URL:https://palmettohallhhi.com/event/phwga-sips-and-dips/
LOCATION:venue rotates between members homes
END:VEVENT
BEGIN:VEVENT
DTSTART;TZID=UTC:20260225T130000
DTEND;TZID=UTC:20260225T143000
DTSTAMP:20260419T142615
CREATED:20241030T125223Z
LAST-MODIFIED:20250716T140740Z
UID:10000805-1772024400-1772029800@palmettohallhhi.com
SUMMARY:PHWC Book Mates Book Club
DESCRIPTION:
URL:https://palmettohallhhi.com/event/book-mates-book-club/2026-02-25/
LOCATION:venue rotates between members homes
ORGANIZER;CN="Debbie Dusenberry":MAILTO:debbie.dusenberry2@gmail.com
END:VEVENT
BEGIN:VEVENT
DTSTART;TZID=UTC:20260223T190000
DTEND;TZID=UTC:20260223T210000
DTSTAMP:20260419T142615
CREATED:20241030T124558Z
LAST-MODIFIED:20250716T140936Z
UID:10000745-1771873200-1771880400@palmettohallhhi.com
SUMMARY:PHWC Night Owls Book Club
DESCRIPTION:
URL:https://palmettohallhhi.com/event/night-owls-book-club/2026-02-23/
LOCATION:venue rotates between members homes
ORGANIZER;CN="Barb Likos":MAILTO:barblikos@gmail.com
END:VEVENT
BEGIN:VEVENT
DTSTART;TZID=UTC:20260219T133000
DTEND;TZID=UTC:20260219T150000
DTSTAMP:20260419T142615
CREATED:20241030T130504Z
LAST-MODIFIED:20250716T134750Z
UID:10000865-1771507800-1771513200@palmettohallhhi.com
SUMMARY:PHWC Cover to Cover Book Club
DESCRIPTION:
URL:https://palmettohallhhi.com/event/cover-to-cover-book-club/2026-02-19/
LOCATION:venue rotates between members homes
END:VEVENT
BEGIN:VEVENT
DTSTART;TZID=UTC:20260216T130000
DTEND;TZID=UTC:20260216T143000
DTSTAMP:20260419T142615
CREATED:20241030T131131Z
LAST-MODIFIED:20250716T140632Z
UID:10000925-1771246800-1771252200@palmettohallhhi.com
SUMMARY:PHWC Monday Afternoon Book Club
DESCRIPTION:
URL:https://palmettohallhhi.com/event/monday-afternoon-book-club/2026-02-16/
LOCATION:venue rotates between members homes
END:VEVENT
BEGIN:VEVENT
DTSTART;TZID=UTC:20260204T140000
DTEND;TZID=UTC:20260204T170000
DTSTAMP:20260419T142615
CREATED:20241030T131503Z
LAST-MODIFIED:20250716T135239Z
UID:10000985-1770213600-1770224400@palmettohallhhi.com
SUMMARY:PHWC Chapters & Chats Book Club
DESCRIPTION:
URL:https://palmettohallhhi.com/event/chapters-chats-book-club/2026-02-04/
LOCATION:venue rotates between members homes
ORGANIZER;CN="Nancy Sigmund":MAILTO:nsiggy410@gmail.com
END:VEVENT
BEGIN:VEVENT
DTSTART;TZID=UTC:20260128T130000
DTEND;TZID=UTC:20260128T143000
DTSTAMP:20260419T142615
CREATED:20241030T125223Z
LAST-MODIFIED:20250716T140740Z
UID:10000804-1769605200-1769610600@palmettohallhhi.com
SUMMARY:PHWC Book Mates Book Club
DESCRIPTION:
URL:https://palmettohallhhi.com/event/book-mates-book-club/2026-01-28/
LOCATION:venue rotates between members homes
ORGANIZER;CN="Debbie Dusenberry":MAILTO:debbie.dusenberry2@gmail.com
END:VEVENT
BEGIN:VEVENT
DTSTART;TZID=UTC:20260126T190000
DTEND;TZID=UTC:20260126T210000
DTSTAMP:20260419T142615
CREATED:20241030T124558Z
LAST-MODIFIED:20250716T140936Z
UID:10000744-1769454000-1769461200@palmettohallhhi.com
SUMMARY:PHWC Night Owls Book Club
DESCRIPTION:
URL:https://palmettohallhhi.com/event/night-owls-book-club/2026-01-26/
LOCATION:venue rotates between members homes
ORGANIZER;CN="Barb Likos":MAILTO:barblikos@gmail.com
END:VEVENT
BEGIN:VEVENT
DTSTART;TZID=UTC:20260119T130000
DTEND;TZID=UTC:20260119T143000
DTSTAMP:20260419T142615
CREATED:20241030T131131Z
LAST-MODIFIED:20250716T140632Z
UID:10000924-1768827600-1768833000@palmettohallhhi.com
SUMMARY:PHWC Monday Afternoon Book Club
DESCRIPTION:
URL:https://palmettohallhhi.com/event/monday-afternoon-book-club/2026-01-19/
LOCATION:venue rotates between members homes
END:VEVENT
BEGIN:VEVENT
DTSTART;TZID=UTC:20260115T133000
DTEND;TZID=UTC:20260115T150000
DTSTAMP:20260419T142615
CREATED:20241030T130504Z
LAST-MODIFIED:20250716T134750Z
UID:10000864-1768483800-1768489200@palmettohallhhi.com
SUMMARY:PHWC Cover to Cover Book Club
DESCRIPTION:
URL:https://palmettohallhhi.com/event/cover-to-cover-book-club/2026-01-15/
LOCATION:venue rotates between members homes
END:VEVENT
BEGIN:VEVENT
DTSTART;TZID=UTC:20260107T140000
DTEND;TZID=UTC:20260107T170000
DTSTAMP:20260419T142615
CREATED:20241030T131503Z
LAST-MODIFIED:20250716T135239Z
UID:10000984-1767794400-1767805200@palmettohallhhi.com
SUMMARY:PHWC Chapters & Chats Book Club
DESCRIPTION:
URL:https://palmettohallhhi.com/event/chapters-chats-book-club/2026-01-07/
LOCATION:venue rotates between members homes
ORGANIZER;CN="Nancy Sigmund":MAILTO:nsiggy410@gmail.com
END:VEVENT
BEGIN:VEVENT
DTSTART;TZID=UTC:20251224T130000
DTEND;TZID=UTC:20251224T143000
DTSTAMP:20260419T142616
CREATED:20241030T125223Z
LAST-MODIFIED:20250716T140740Z
UID:10000803-1766581200-1766586600@palmettohallhhi.com
SUMMARY:PHWC Book Mates Book Club
DESCRIPTION:
URL:https://palmettohallhhi.com/event/book-mates-book-club/2025-12-24/
LOCATION:venue rotates between members homes
ORGANIZER;CN="Debbie Dusenberry":MAILTO:debbie.dusenberry2@gmail.com
END:VEVENT
BEGIN:VEVENT
DTSTART;TZID=UTC:20251218T133000
DTEND;TZID=UTC:20251218T150000
DTSTAMP:20260419T142616
CREATED:20241030T130504Z
LAST-MODIFIED:20250716T134750Z
UID:10000863-1766064600-1766070000@palmettohallhhi.com
SUMMARY:PHWC Cover to Cover Book Club
DESCRIPTION:
URL:https://palmettohallhhi.com/event/cover-to-cover-book-club/2025-12-18/
LOCATION:venue rotates between members homes
END:VEVENT
BEGIN:VEVENT
DTSTART;TZID=UTC:20251215T130000
DTEND;TZID=UTC:20251215T143000
DTSTAMP:20260419T142616
CREATED:20241030T131131Z
LAST-MODIFIED:20250716T140632Z
UID:10000923-1765803600-1765809000@palmettohallhhi.com
SUMMARY:PHWC Monday Afternoon Book Club
DESCRIPTION:
URL:https://palmettohallhhi.com/event/monday-afternoon-book-club/2025-12-15/
LOCATION:venue rotates between members homes
END:VEVENT
BEGIN:VEVENT
DTSTART;TZID=UTC:20251203T140000
DTEND;TZID=UTC:20251203T170000
DTSTAMP:20260419T142616
CREATED:20241030T131503Z
LAST-MODIFIED:20250716T135239Z
UID:10000983-1764770400-1764781200@palmettohallhhi.com
SUMMARY:PHWC Chapters & Chats Book Club
DESCRIPTION:
URL:https://palmettohallhhi.com/event/chapters-chats-book-club/2025-12-03/
LOCATION:venue rotates between members homes
ORGANIZER;CN="Nancy Sigmund":MAILTO:nsiggy410@gmail.com
END:VEVENT
BEGIN:VEVENT
DTSTART;TZID=UTC:20251126T130000
DTEND;TZID=UTC:20251126T143000
DTSTAMP:20260419T142616
CREATED:20241030T125223Z
LAST-MODIFIED:20250716T140740Z
UID:10000802-1764162000-1764167400@palmettohallhhi.com
SUMMARY:PHWC Book Mates Book Club
DESCRIPTION:
URL:https://palmettohallhhi.com/event/book-mates-book-club/2025-11-26/
LOCATION:venue rotates between members homes
ORGANIZER;CN="Debbie Dusenberry":MAILTO:debbie.dusenberry2@gmail.com
END:VEVENT
BEGIN:VEVENT
DTSTART;TZID=UTC:20251124T190000
DTEND;TZID=UTC:20251124T210000
DTSTAMP:20260419T142616
CREATED:20241030T124558Z
LAST-MODIFIED:20250716T140936Z
UID:10000742-1764010800-1764018000@palmettohallhhi.com
SUMMARY:PHWC Night Owls Book Club
DESCRIPTION:
URL:https://palmettohallhhi.com/event/night-owls-book-club/2025-11-24/
LOCATION:venue rotates between members homes
ORGANIZER;CN="Barb Likos":MAILTO:barblikos@gmail.com
END:VEVENT
BEGIN:VEVENT
DTSTART;TZID=UTC:20251120T133000
DTEND;TZID=UTC:20251120T150000
DTSTAMP:20260419T142616
CREATED:20241030T130504Z
LAST-MODIFIED:20250716T134750Z
UID:10000862-1763645400-1763650800@palmettohallhhi.com
SUMMARY:PHWC Cover to Cover Book Club
DESCRIPTION:
URL:https://palmettohallhhi.com/event/cover-to-cover-book-club/2025-11-20/
LOCATION:venue rotates between members homes
END:VEVENT
BEGIN:VEVENT
DTSTART;TZID=UTC:20251117T130000
DTEND;TZID=UTC:20251117T143000
DTSTAMP:20260419T142616
CREATED:20241030T131131Z
LAST-MODIFIED:20250716T140632Z
UID:10000922-1763384400-1763389800@palmettohallhhi.com
SUMMARY:PHWC Monday Afternoon Book Club
DESCRIPTION:
URL:https://palmettohallhhi.com/event/monday-afternoon-book-club/2025-11-17/
LOCATION:venue rotates between members homes
END:VEVENT
BEGIN:VEVENT
DTSTART;TZID=UTC:20251105T140000
DTEND;TZID=UTC:20251105T170000
DTSTAMP:20260419T142616
CREATED:20241030T131503Z
LAST-MODIFIED:20250716T135239Z
UID:10000982-1762351200-1762362000@palmettohallhhi.com
SUMMARY:PHWC Chapters & Chats Book Club
DESCRIPTION:
URL:https://palmettohallhhi.com/event/chapters-chats-book-club/2025-11-05/
LOCATION:venue rotates between members homes
ORGANIZER;CN="Nancy Sigmund":MAILTO:nsiggy410@gmail.com
END:VEVENT
BEGIN:VEVENT
DTSTART;TZID=UTC:20251027T190000
DTEND;TZID=UTC:20251027T210000
DTSTAMP:20260419T142616
CREATED:20241030T124558Z
LAST-MODIFIED:20250716T140936Z
UID:10000741-1761591600-1761598800@palmettohallhhi.com
SUMMARY:PHWC Night Owls Book Club
DESCRIPTION:
URL:https://palmettohallhhi.com/event/night-owls-book-club/2025-10-27/
LOCATION:venue rotates between members homes
ORGANIZER;CN="Barb Likos":MAILTO:barblikos@gmail.com
END:VEVENT
BEGIN:VEVENT
DTSTART;TZID=UTC:20251022T130000
DTEND;TZID=UTC:20251022T143000
DTSTAMP:20260419T142616
CREATED:20241030T125223Z
LAST-MODIFIED:20250716T140740Z
UID:10000801-1761138000-1761143400@palmettohallhhi.com
SUMMARY:PHWC Book Mates Book Club
DESCRIPTION:
URL:https://palmettohallhhi.com/event/book-mates-book-club/2025-10-22/
LOCATION:venue rotates between members homes
ORGANIZER;CN="Debbie Dusenberry":MAILTO:debbie.dusenberry2@gmail.com
END:VEVENT
END:VCALENDAR