BEGIN:VCALENDAR
VERSION:2.0
PRODID:-//Palmetto Hall POA - ECPv6.6.4//NONSGML v1.0//EN
CALSCALE:GREGORIAN
METHOD:PUBLISH
X-WR-CALNAME:Palmetto Hall POA
X-ORIGINAL-URL:https://palmettohallhhi.com
X-WR-CALDESC:Events for Palmetto Hall POA
REFRESH-INTERVAL;VALUE=DURATION:PT1H
X-Robots-Tag:noindex
X-PUBLISHED-TTL:PT1H
BEGIN:VTIMEZONE
TZID:UTC
BEGIN:STANDARD
TZOFFSETFROM:+0000
TZOFFSETTO:+0000
TZNAME:UTC
DTSTART:20260101T000000
END:STANDARD
END:VTIMEZONE
BEGIN:VEVENT
DTSTART;TZID=UTC:20260420T130000
DTEND;TZID=UTC:20260420T143000
DTSTAMP:20260419T123746
CREATED:20241030T131131Z
LAST-MODIFIED:20250716T140632Z
UID:10000927-1776690000-1776695400@palmettohallhhi.com
SUMMARY:PHWC Monday Afternoon Book Club
DESCRIPTION:
URL:https://palmettohallhhi.com/event/monday-afternoon-book-club/2026-04-20/
LOCATION:venue rotates between members homes
END:VEVENT
BEGIN:VEVENT
DTSTART;TZID=UTC:20260422T130000
DTEND;TZID=UTC:20260422T143000
DTSTAMP:20260419T123746
CREATED:20241030T125223Z
LAST-MODIFIED:20250716T140740Z
UID:10000807-1776862800-1776868200@palmettohallhhi.com
SUMMARY:PHWC Book Mates Book Club
DESCRIPTION:
URL:https://palmettohallhhi.com/event/book-mates-book-club/2026-04-22/
LOCATION:venue rotates between members homes
ORGANIZER;CN="Debbie Dusenberry":MAILTO:debbie.dusenberry2@gmail.com
END:VEVENT
BEGIN:VEVENT
DTSTART;TZID=UTC:20260427T190000
DTEND;TZID=UTC:20260427T210000
DTSTAMP:20260419T123746
CREATED:20241030T124558Z
LAST-MODIFIED:20250716T140936Z
UID:10000747-1777316400-1777323600@palmettohallhhi.com
SUMMARY:PHWC Night Owls Book Club
DESCRIPTION:
URL:https://palmettohallhhi.com/event/night-owls-book-club/2026-04-27/
LOCATION:venue rotates between members homes
ORGANIZER;CN="Barb Likos":MAILTO:barblikos@gmail.com
END:VEVENT
BEGIN:VEVENT
DTSTART;TZID=UTC:20260506T140000
DTEND;TZID=UTC:20260506T170000
DTSTAMP:20260419T123746
CREATED:20241030T131503Z
LAST-MODIFIED:20250716T135239Z
UID:10000988-1778076000-1778086800@palmettohallhhi.com
SUMMARY:PHWC Chapters & Chats Book Club
DESCRIPTION:
URL:https://palmettohallhhi.com/event/chapters-chats-book-club/2026-05-06/
LOCATION:venue rotates between members homes
ORGANIZER;CN="Nancy Sigmund":MAILTO:nsiggy410@gmail.com
END:VEVENT
BEGIN:VEVENT
DTSTART;TZID=UTC:20260518T130000
DTEND;TZID=UTC:20260518T143000
DTSTAMP:20260419T123746
CREATED:20241030T131131Z
LAST-MODIFIED:20250716T140632Z
UID:10000928-1779109200-1779114600@palmettohallhhi.com
SUMMARY:PHWC Monday Afternoon Book Club
DESCRIPTION:
URL:https://palmettohallhhi.com/event/monday-afternoon-book-club/2026-05-18/
LOCATION:venue rotates between members homes
END:VEVENT
BEGIN:VEVENT
DTSTART;TZID=UTC:20260521T133000
DTEND;TZID=UTC:20260521T150000
DTSTAMP:20260419T123746
CREATED:20241030T130504Z
LAST-MODIFIED:20250716T134750Z
UID:10000868-1779370200-1779375600@palmettohallhhi.com
SUMMARY:PHWC Cover to Cover Book Club
DESCRIPTION:
URL:https://palmettohallhhi.com/event/cover-to-cover-book-club/2026-05-21/
LOCATION:venue rotates between members homes
END:VEVENT
BEGIN:VEVENT
DTSTART;TZID=UTC:20260525T190000
DTEND;TZID=UTC:20260525T210000
DTSTAMP:20260419T123746
CREATED:20241030T124558Z
LAST-MODIFIED:20250716T140936Z
UID:10000748-1779735600-1779742800@palmettohallhhi.com
SUMMARY:PHWC Night Owls Book Club
DESCRIPTION:
URL:https://palmettohallhhi.com/event/night-owls-book-club/2026-05-25/
LOCATION:venue rotates between members homes
ORGANIZER;CN="Barb Likos":MAILTO:barblikos@gmail.com
END:VEVENT
BEGIN:VEVENT
DTSTART;TZID=UTC:20260527T130000
DTEND;TZID=UTC:20260527T143000
DTSTAMP:20260419T123746
CREATED:20241030T125223Z
LAST-MODIFIED:20250716T140740Z
UID:10000808-1779886800-1779892200@palmettohallhhi.com
SUMMARY:PHWC Book Mates Book Club
DESCRIPTION:
URL:https://palmettohallhhi.com/event/book-mates-book-club/2026-05-27/
LOCATION:venue rotates between members homes
ORGANIZER;CN="Debbie Dusenberry":MAILTO:debbie.dusenberry2@gmail.com
END:VEVENT
BEGIN:VEVENT
DTSTART;TZID=UTC:20260603T140000
DTEND;TZID=UTC:20260603T170000
DTSTAMP:20260419T123746
CREATED:20241030T131503Z
LAST-MODIFIED:20250716T135239Z
UID:10000989-1780495200-1780506000@palmettohallhhi.com
SUMMARY:PHWC Chapters & Chats Book Club
DESCRIPTION:
URL:https://palmettohallhhi.com/event/chapters-chats-book-club/2026-06-03/
LOCATION:venue rotates between members homes
ORGANIZER;CN="Nancy Sigmund":MAILTO:nsiggy410@gmail.com
END:VEVENT
BEGIN:VEVENT
DTSTART;TZID=UTC:20260615T130000
DTEND;TZID=UTC:20260615T143000
DTSTAMP:20260419T123746
CREATED:20241030T131131Z
LAST-MODIFIED:20250716T140632Z
UID:10000929-1781528400-1781533800@palmettohallhhi.com
SUMMARY:PHWC Monday Afternoon Book Club
DESCRIPTION:
URL:https://palmettohallhhi.com/event/monday-afternoon-book-club/2026-06-15/
LOCATION:venue rotates between members homes
END:VEVENT
BEGIN:VEVENT
DTSTART;TZID=UTC:20260618T133000
DTEND;TZID=UTC:20260618T150000
DTSTAMP:20260419T123746
CREATED:20241030T130504Z
LAST-MODIFIED:20250716T134750Z
UID:10000869-1781789400-1781794800@palmettohallhhi.com
SUMMARY:PHWC Cover to Cover Book Club
DESCRIPTION:
URL:https://palmettohallhhi.com/event/cover-to-cover-book-club/2026-06-18/
LOCATION:venue rotates between members homes
END:VEVENT
BEGIN:VEVENT
DTSTART;TZID=UTC:20260622T190000
DTEND;TZID=UTC:20260622T210000
DTSTAMP:20260419T123746
CREATED:20241030T124558Z
LAST-MODIFIED:20250716T140936Z
UID:10000749-1782154800-1782162000@palmettohallhhi.com
SUMMARY:PHWC Night Owls Book Club
DESCRIPTION:
URL:https://palmettohallhhi.com/event/night-owls-book-club/2026-06-22/
LOCATION:venue rotates between members homes
ORGANIZER;CN="Barb Likos":MAILTO:barblikos@gmail.com
END:VEVENT
BEGIN:VEVENT
DTSTART;TZID=UTC:20260624T130000
DTEND;TZID=UTC:20260624T143000
DTSTAMP:20260419T123746
CREATED:20241030T125223Z
LAST-MODIFIED:20250716T140740Z
UID:10000809-1782306000-1782311400@palmettohallhhi.com
SUMMARY:PHWC Book Mates Book Club
DESCRIPTION:
URL:https://palmettohallhhi.com/event/book-mates-book-club/2026-06-24/
LOCATION:venue rotates between members homes
ORGANIZER;CN="Debbie Dusenberry":MAILTO:debbie.dusenberry2@gmail.com
END:VEVENT
BEGIN:VEVENT
DTSTART;TZID=UTC:20260701T140000
DTEND;TZID=UTC:20260701T170000
DTSTAMP:20260419T123746
CREATED:20241030T131503Z
LAST-MODIFIED:20250716T135239Z
UID:10000990-1782914400-1782925200@palmettohallhhi.com
SUMMARY:PHWC Chapters & Chats Book Club
DESCRIPTION:
URL:https://palmettohallhhi.com/event/chapters-chats-book-club/2026-07-01/
LOCATION:venue rotates between members homes
ORGANIZER;CN="Nancy Sigmund":MAILTO:nsiggy410@gmail.com
END:VEVENT
BEGIN:VEVENT
DTSTART;TZID=UTC:20260716T133000
DTEND;TZID=UTC:20260716T150000
DTSTAMP:20260419T123746
CREATED:20241030T130504Z
LAST-MODIFIED:20250716T134750Z
UID:10000870-1784208600-1784214000@palmettohallhhi.com
SUMMARY:PHWC Cover to Cover Book Club
DESCRIPTION:
URL:https://palmettohallhhi.com/event/cover-to-cover-book-club/2026-07-16/
LOCATION:venue rotates between members homes
END:VEVENT
BEGIN:VEVENT
DTSTART;TZID=UTC:20260720T130000
DTEND;TZID=UTC:20260720T143000
DTSTAMP:20260419T123746
CREATED:20241030T131131Z
LAST-MODIFIED:20250716T140632Z
UID:10000930-1784552400-1784557800@palmettohallhhi.com
SUMMARY:PHWC Monday Afternoon Book Club
DESCRIPTION:
URL:https://palmettohallhhi.com/event/monday-afternoon-book-club/2026-07-20/
LOCATION:venue rotates between members homes
END:VEVENT
BEGIN:VEVENT
DTSTART;TZID=UTC:20260722T130000
DTEND;TZID=UTC:20260722T143000
DTSTAMP:20260419T123746
CREATED:20241030T125223Z
LAST-MODIFIED:20250716T140740Z
UID:10000810-1784725200-1784730600@palmettohallhhi.com
SUMMARY:PHWC Book Mates Book Club
DESCRIPTION:
URL:https://palmettohallhhi.com/event/book-mates-book-club/2026-07-22/
LOCATION:venue rotates between members homes
ORGANIZER;CN="Debbie Dusenberry":MAILTO:debbie.dusenberry2@gmail.com
END:VEVENT
BEGIN:VEVENT
DTSTART;TZID=UTC:20260727T190000
DTEND;TZID=UTC:20260727T210000
DTSTAMP:20260419T123746
CREATED:20241030T124558Z
LAST-MODIFIED:20250716T140936Z
UID:10000750-1785178800-1785186000@palmettohallhhi.com
SUMMARY:PHWC Night Owls Book Club
DESCRIPTION:
URL:https://palmettohallhhi.com/event/night-owls-book-club/2026-07-27/
LOCATION:venue rotates between members homes
ORGANIZER;CN="Barb Likos":MAILTO:barblikos@gmail.com
END:VEVENT
BEGIN:VEVENT
DTSTART;TZID=UTC:20260805T140000
DTEND;TZID=UTC:20260805T170000
DTSTAMP:20260419T123746
CREATED:20241030T131503Z
LAST-MODIFIED:20250716T135239Z
UID:10000991-1785938400-1785949200@palmettohallhhi.com
SUMMARY:PHWC Chapters & Chats Book Club
DESCRIPTION:
URL:https://palmettohallhhi.com/event/chapters-chats-book-club/2026-08-05/
LOCATION:venue rotates between members homes
ORGANIZER;CN="Nancy Sigmund":MAILTO:nsiggy410@gmail.com
END:VEVENT
BEGIN:VEVENT
DTSTART;TZID=UTC:20260817T130000
DTEND;TZID=UTC:20260817T143000
DTSTAMP:20260419T123746
CREATED:20241030T131131Z
LAST-MODIFIED:20250716T140632Z
UID:10000931-1786971600-1786977000@palmettohallhhi.com
SUMMARY:PHWC Monday Afternoon Book Club
DESCRIPTION:
URL:https://palmettohallhhi.com/event/monday-afternoon-book-club/2026-08-17/
LOCATION:venue rotates between members homes
END:VEVENT
BEGIN:VEVENT
DTSTART;TZID=UTC:20260820T133000
DTEND;TZID=UTC:20260820T150000
DTSTAMP:20260419T123746
CREATED:20241030T130504Z
LAST-MODIFIED:20250716T134750Z
UID:10000871-1787232600-1787238000@palmettohallhhi.com
SUMMARY:PHWC Cover to Cover Book Club
DESCRIPTION:
URL:https://palmettohallhhi.com/event/cover-to-cover-book-club/2026-08-20/
LOCATION:venue rotates between members homes
END:VEVENT
BEGIN:VEVENT
DTSTART;TZID=UTC:20260824T190000
DTEND;TZID=UTC:20260824T210000
DTSTAMP:20260419T123746
CREATED:20241030T124558Z
LAST-MODIFIED:20250716T140936Z
UID:10000751-1787598000-1787605200@palmettohallhhi.com
SUMMARY:PHWC Night Owls Book Club
DESCRIPTION:
URL:https://palmettohallhhi.com/event/night-owls-book-club/2026-08-24/
LOCATION:venue rotates between members homes
ORGANIZER;CN="Barb Likos":MAILTO:barblikos@gmail.com
END:VEVENT
BEGIN:VEVENT
DTSTART;TZID=UTC:20260826T130000
DTEND;TZID=UTC:20260826T143000
DTSTAMP:20260419T123746
CREATED:20241030T125223Z
LAST-MODIFIED:20250716T140740Z
UID:10000811-1787749200-1787754600@palmettohallhhi.com
SUMMARY:PHWC Book Mates Book Club
DESCRIPTION:
URL:https://palmettohallhhi.com/event/book-mates-book-club/2026-08-26/
LOCATION:venue rotates between members homes
ORGANIZER;CN="Debbie Dusenberry":MAILTO:debbie.dusenberry2@gmail.com
END:VEVENT
BEGIN:VEVENT
DTSTART;TZID=UTC:20260902T140000
DTEND;TZID=UTC:20260902T170000
DTSTAMP:20260419T123746
CREATED:20241030T131503Z
LAST-MODIFIED:20250716T135239Z
UID:10000992-1788357600-1788368400@palmettohallhhi.com
SUMMARY:PHWC Chapters & Chats Book Club
DESCRIPTION:
URL:https://palmettohallhhi.com/event/chapters-chats-book-club/2026-09-02/
LOCATION:venue rotates between members homes
ORGANIZER;CN="Nancy Sigmund":MAILTO:nsiggy410@gmail.com
END:VEVENT
BEGIN:VEVENT
DTSTART;TZID=UTC:20260917T133000
DTEND;TZID=UTC:20260917T150000
DTSTAMP:20260419T123746
CREATED:20241030T130504Z
LAST-MODIFIED:20250716T134750Z
UID:10000872-1789651800-1789657200@palmettohallhhi.com
SUMMARY:PHWC Cover to Cover Book Club
DESCRIPTION:
URL:https://palmettohallhhi.com/event/cover-to-cover-book-club/2026-09-17/
LOCATION:venue rotates between members homes
END:VEVENT
BEGIN:VEVENT
DTSTART;TZID=UTC:20260921T130000
DTEND;TZID=UTC:20260921T143000
DTSTAMP:20260419T123746
CREATED:20241030T131131Z
LAST-MODIFIED:20250716T140632Z
UID:10000932-1789995600-1790001000@palmettohallhhi.com
SUMMARY:PHWC Monday Afternoon Book Club
DESCRIPTION:
URL:https://palmettohallhhi.com/event/monday-afternoon-book-club/2026-09-21/
LOCATION:venue rotates between members homes
END:VEVENT
BEGIN:VEVENT
DTSTART;TZID=UTC:20260923T130000
DTEND;TZID=UTC:20260923T143000
DTSTAMP:20260419T123746
CREATED:20241030T125223Z
LAST-MODIFIED:20250716T140740Z
UID:10000812-1790168400-1790173800@palmettohallhhi.com
SUMMARY:PHWC Book Mates Book Club
DESCRIPTION:
URL:https://palmettohallhhi.com/event/book-mates-book-club/2026-09-23/
LOCATION:venue rotates between members homes
ORGANIZER;CN="Debbie Dusenberry":MAILTO:debbie.dusenberry2@gmail.com
END:VEVENT
BEGIN:VEVENT
DTSTART;TZID=UTC:20260928T190000
DTEND;TZID=UTC:20260928T210000
DTSTAMP:20260419T123746
CREATED:20241030T124558Z
LAST-MODIFIED:20250716T140936Z
UID:10000752-1790622000-1790629200@palmettohallhhi.com
SUMMARY:PHWC Night Owls Book Club
DESCRIPTION:
URL:https://palmettohallhhi.com/event/night-owls-book-club/2026-09-28/
LOCATION:venue rotates between members homes
ORGANIZER;CN="Barb Likos":MAILTO:barblikos@gmail.com
END:VEVENT
BEGIN:VEVENT
DTSTART;TZID=UTC:20261007T140000
DTEND;TZID=UTC:20261007T170000
DTSTAMP:20260419T123746
CREATED:20241030T131503Z
LAST-MODIFIED:20250716T135239Z
UID:10000993-1791381600-1791392400@palmettohallhhi.com
SUMMARY:PHWC Chapters & Chats Book Club
DESCRIPTION:
URL:https://palmettohallhhi.com/event/chapters-chats-book-club/2026-10-07/
LOCATION:venue rotates between members homes
ORGANIZER;CN="Nancy Sigmund":MAILTO:nsiggy410@gmail.com
END:VEVENT
BEGIN:VEVENT
DTSTART;TZID=UTC:20261015T133000
DTEND;TZID=UTC:20261015T150000
DTSTAMP:20260419T123746
CREATED:20241030T130504Z
LAST-MODIFIED:20250716T134750Z
UID:10000873-1792071000-1792076400@palmettohallhhi.com
SUMMARY:PHWC Cover to Cover Book Club
DESCRIPTION:
URL:https://palmettohallhhi.com/event/cover-to-cover-book-club/2026-10-15/
LOCATION:venue rotates between members homes
END:VEVENT
END:VCALENDAR