BEGIN:VCALENDAR
VERSION:2.0
PRODID:-//Palmetto Hall POA - ECPv6.6.4//NONSGML v1.0//EN
CALSCALE:GREGORIAN
METHOD:PUBLISH
X-ORIGINAL-URL:https://palmettohallhhi.com
X-WR-CALDESC:Events for Palmetto Hall POA
REFRESH-INTERVAL;VALUE=DURATION:PT1H
X-Robots-Tag:noindex
X-PUBLISHED-TTL:PT1H
BEGIN:VTIMEZONE
TZID:UTC
BEGIN:STANDARD
TZOFFSETFROM:+0000
TZOFFSETTO:+0000
TZNAME:UTC
DTSTART:20280101T000000
END:STANDARD
END:VTIMEZONE
BEGIN:VEVENT
DTSTART;TZID=UTC:20281122T130000
DTEND;TZID=UTC:20281122T143000
DTSTAMP:20260419T123910
CREATED:20241030T125223Z
LAST-MODIFIED:20250716T140740Z
UID:10000838-1858510800-1858516200@palmettohallhhi.com
SUMMARY:PHWC Book Mates Book Club
DESCRIPTION:
URL:https://palmettohallhhi.com/event/book-mates-book-club/2028-11-22/
LOCATION:venue rotates between members homes
ORGANIZER;CN="Debbie Dusenberry":MAILTO:debbie.dusenberry2@gmail.com
END:VEVENT
BEGIN:VEVENT
DTSTART;TZID=UTC:20281127T190000
DTEND;TZID=UTC:20281127T210000
DTSTAMP:20260419T123910
CREATED:20241030T124558Z
LAST-MODIFIED:20250716T140936Z
UID:10000778-1858964400-1858971600@palmettohallhhi.com
SUMMARY:PHWC Night Owls Book Club
DESCRIPTION:
URL:https://palmettohallhhi.com/event/night-owls-book-club/2028-11-27/
LOCATION:venue rotates between members homes
ORGANIZER;CN="Barb Likos":MAILTO:barblikos@gmail.com
END:VEVENT
BEGIN:VEVENT
DTSTART;TZID=UTC:20281206T140000
DTEND;TZID=UTC:20281206T170000
DTSTAMP:20260419T123910
CREATED:20241030T131503Z
LAST-MODIFIED:20250716T135239Z
UID:10001019-1859724000-1859734800@palmettohallhhi.com
SUMMARY:PHWC Chapters & Chats Book Club
DESCRIPTION:
URL:https://palmettohallhhi.com/event/chapters-chats-book-club/2028-12-06/
LOCATION:venue rotates between members homes
ORGANIZER;CN="Nancy Sigmund":MAILTO:nsiggy410@gmail.com
END:VEVENT
BEGIN:VEVENT
DTSTART;TZID=UTC:20281218T130000
DTEND;TZID=UTC:20281218T143000
DTSTAMP:20260419T123910
CREATED:20241030T131131Z
LAST-MODIFIED:20250716T140632Z
UID:10000959-1860757200-1860762600@palmettohallhhi.com
SUMMARY:PHWC Monday Afternoon Book Club
DESCRIPTION:
URL:https://palmettohallhhi.com/event/monday-afternoon-book-club/2028-12-18/
LOCATION:venue rotates between members homes
END:VEVENT
BEGIN:VEVENT
DTSTART;TZID=UTC:20281221T133000
DTEND;TZID=UTC:20281221T150000
DTSTAMP:20260419T123910
CREATED:20241030T130504Z
LAST-MODIFIED:20250716T134750Z
UID:10000899-1861018200-1861023600@palmettohallhhi.com
SUMMARY:PHWC Cover to Cover Book Club
DESCRIPTION:
URL:https://palmettohallhhi.com/event/cover-to-cover-book-club/2028-12-21/
LOCATION:venue rotates between members homes
END:VEVENT
BEGIN:VEVENT
DTSTART;TZID=UTC:20281225T190000
DTEND;TZID=UTC:20281225T210000
DTSTAMP:20260419T123910
CREATED:20241030T124558Z
LAST-MODIFIED:20250716T140936Z
UID:10000779-1861383600-1861390800@palmettohallhhi.com
SUMMARY:PHWC Night Owls Book Club
DESCRIPTION:
URL:https://palmettohallhhi.com/event/night-owls-book-club/2028-12-25/
LOCATION:venue rotates between members homes
ORGANIZER;CN="Barb Likos":MAILTO:barblikos@gmail.com
END:VEVENT
BEGIN:VEVENT
DTSTART;TZID=UTC:20281227T130000
DTEND;TZID=UTC:20281227T143000
DTSTAMP:20260419T123910
CREATED:20241030T125223Z
LAST-MODIFIED:20250716T140740Z
UID:10000839-1861534800-1861540200@palmettohallhhi.com
SUMMARY:PHWC Book Mates Book Club
DESCRIPTION:
URL:https://palmettohallhhi.com/event/book-mates-book-club/2028-12-27/
LOCATION:venue rotates between members homes
ORGANIZER;CN="Debbie Dusenberry":MAILTO:debbie.dusenberry2@gmail.com
END:VEVENT
BEGIN:VEVENT
DTSTART;TZID=UTC:20290103T140000
DTEND;TZID=UTC:20290103T170000
DTSTAMP:20260419T123910
CREATED:20241030T131503Z
LAST-MODIFIED:20250716T135239Z
UID:10001020-1862143200-1862154000@palmettohallhhi.com
SUMMARY:PHWC Chapters & Chats Book Club
DESCRIPTION:
URL:https://palmettohallhhi.com/event/chapters-chats-book-club/2029-01-03/
LOCATION:venue rotates between members homes
ORGANIZER;CN="Nancy Sigmund":MAILTO:nsiggy410@gmail.com
END:VEVENT
BEGIN:VEVENT
DTSTART;TZID=UTC:20290115T130000
DTEND;TZID=UTC:20290115T143000
DTSTAMP:20260419T123910
CREATED:20241030T131131Z
LAST-MODIFIED:20250716T140632Z
UID:10000960-1863176400-1863181800@palmettohallhhi.com
SUMMARY:PHWC Monday Afternoon Book Club
DESCRIPTION:
URL:https://palmettohallhhi.com/event/monday-afternoon-book-club/2029-01-15/
LOCATION:venue rotates between members homes
END:VEVENT
BEGIN:VEVENT
DTSTART;TZID=UTC:20290118T133000
DTEND;TZID=UTC:20290118T150000
DTSTAMP:20260419T123910
CREATED:20241030T130504Z
LAST-MODIFIED:20250716T134750Z
UID:10000900-1863437400-1863442800@palmettohallhhi.com
SUMMARY:PHWC Cover to Cover Book Club
DESCRIPTION:
URL:https://palmettohallhhi.com/event/cover-to-cover-book-club/2029-01-18/
LOCATION:venue rotates between members homes
END:VEVENT
BEGIN:VEVENT
DTSTART;TZID=UTC:20290122T190000
DTEND;TZID=UTC:20290122T210000
DTSTAMP:20260419T123910
CREATED:20241030T124558Z
LAST-MODIFIED:20250716T140936Z
UID:10000780-1863802800-1863810000@palmettohallhhi.com
SUMMARY:PHWC Night Owls Book Club
DESCRIPTION:
URL:https://palmettohallhhi.com/event/night-owls-book-club/2029-01-22/
LOCATION:venue rotates between members homes
ORGANIZER;CN="Barb Likos":MAILTO:barblikos@gmail.com
END:VEVENT
BEGIN:VEVENT
DTSTART;TZID=UTC:20290124T130000
DTEND;TZID=UTC:20290124T143000
DTSTAMP:20260419T123910
CREATED:20241030T125223Z
LAST-MODIFIED:20250716T140740Z
UID:10000840-1863954000-1863959400@palmettohallhhi.com
SUMMARY:PHWC Book Mates Book Club
DESCRIPTION:
URL:https://palmettohallhhi.com/event/book-mates-book-club/2029-01-24/
LOCATION:venue rotates between members homes
ORGANIZER;CN="Debbie Dusenberry":MAILTO:debbie.dusenberry2@gmail.com
END:VEVENT
BEGIN:VEVENT
DTSTART;TZID=UTC:20290207T140000
DTEND;TZID=UTC:20290207T170000
DTSTAMP:20260419T123910
CREATED:20241030T131503Z
LAST-MODIFIED:20250716T135239Z
UID:10001021-1865167200-1865178000@palmettohallhhi.com
SUMMARY:PHWC Chapters & Chats Book Club
DESCRIPTION:
URL:https://palmettohallhhi.com/event/chapters-chats-book-club/2029-02-07/
LOCATION:venue rotates between members homes
ORGANIZER;CN="Nancy Sigmund":MAILTO:nsiggy410@gmail.com
END:VEVENT
BEGIN:VEVENT
DTSTART;TZID=UTC:20290215T133000
DTEND;TZID=UTC:20290215T150000
DTSTAMP:20260419T123910
CREATED:20241030T130504Z
LAST-MODIFIED:20250716T134750Z
UID:10000901-1865856600-1865862000@palmettohallhhi.com
SUMMARY:PHWC Cover to Cover Book Club
DESCRIPTION:
URL:https://palmettohallhhi.com/event/cover-to-cover-book-club/2029-02-15/
LOCATION:venue rotates between members homes
END:VEVENT
BEGIN:VEVENT
DTSTART;TZID=UTC:20290219T130000
DTEND;TZID=UTC:20290219T143000
DTSTAMP:20260419T123910
CREATED:20241030T131131Z
LAST-MODIFIED:20250716T140632Z
UID:10000961-1866200400-1866205800@palmettohallhhi.com
SUMMARY:PHWC Monday Afternoon Book Club
DESCRIPTION:
URL:https://palmettohallhhi.com/event/monday-afternoon-book-club/2029-02-19/
LOCATION:venue rotates between members homes
END:VEVENT
BEGIN:VEVENT
DTSTART;TZID=UTC:20290226T190000
DTEND;TZID=UTC:20290226T210000
DTSTAMP:20260419T123910
CREATED:20241030T124558Z
LAST-MODIFIED:20250716T140936Z
UID:10000781-1866826800-1866834000@palmettohallhhi.com
SUMMARY:PHWC Night Owls Book Club
DESCRIPTION:
URL:https://palmettohallhhi.com/event/night-owls-book-club/2029-02-26/
LOCATION:venue rotates between members homes
ORGANIZER;CN="Barb Likos":MAILTO:barblikos@gmail.com
END:VEVENT
BEGIN:VEVENT
DTSTART;TZID=UTC:20290228T130000
DTEND;TZID=UTC:20290228T143000
DTSTAMP:20260419T123910
CREATED:20241030T125223Z
LAST-MODIFIED:20250716T140740Z
UID:10000841-1866978000-1866983400@palmettohallhhi.com
SUMMARY:PHWC Book Mates Book Club
DESCRIPTION:
URL:https://palmettohallhhi.com/event/book-mates-book-club/2029-02-28/
LOCATION:venue rotates between members homes
ORGANIZER;CN="Debbie Dusenberry":MAILTO:debbie.dusenberry2@gmail.com
END:VEVENT
BEGIN:VEVENT
DTSTART;TZID=UTC:20290307T140000
DTEND;TZID=UTC:20290307T170000
DTSTAMP:20260419T123910
CREATED:20241030T131503Z
LAST-MODIFIED:20250716T135239Z
UID:10001022-1867586400-1867597200@palmettohallhhi.com
SUMMARY:PHWC Chapters & Chats Book Club
DESCRIPTION:
URL:https://palmettohallhhi.com/event/chapters-chats-book-club/2029-03-07/
LOCATION:venue rotates between members homes
ORGANIZER;CN="Nancy Sigmund":MAILTO:nsiggy410@gmail.com
END:VEVENT
BEGIN:VEVENT
DTSTART;TZID=UTC:20290315T133000
DTEND;TZID=UTC:20290315T150000
DTSTAMP:20260419T123910
CREATED:20241030T130504Z
LAST-MODIFIED:20250716T134750Z
UID:10000902-1868275800-1868281200@palmettohallhhi.com
SUMMARY:PHWC Cover to Cover Book Club
DESCRIPTION:
URL:https://palmettohallhhi.com/event/cover-to-cover-book-club/2029-03-15/
LOCATION:venue rotates between members homes
END:VEVENT
BEGIN:VEVENT
DTSTART;TZID=UTC:20290319T130000
DTEND;TZID=UTC:20290319T143000
DTSTAMP:20260419T123910
CREATED:20241030T131131Z
LAST-MODIFIED:20250716T140632Z
UID:10000962-1868619600-1868625000@palmettohallhhi.com
SUMMARY:PHWC Monday Afternoon Book Club
DESCRIPTION:
URL:https://palmettohallhhi.com/event/monday-afternoon-book-club/2029-03-19/
LOCATION:venue rotates between members homes
END:VEVENT
BEGIN:VEVENT
DTSTART;TZID=UTC:20290326T190000
DTEND;TZID=UTC:20290326T210000
DTSTAMP:20260419T123910
CREATED:20241030T124558Z
LAST-MODIFIED:20250716T140936Z
UID:10000782-1869246000-1869253200@palmettohallhhi.com
SUMMARY:PHWC Night Owls Book Club
DESCRIPTION:
URL:https://palmettohallhhi.com/event/night-owls-book-club/2029-03-26/
LOCATION:venue rotates between members homes
ORGANIZER;CN="Barb Likos":MAILTO:barblikos@gmail.com
END:VEVENT
BEGIN:VEVENT
DTSTART;TZID=UTC:20290328T130000
DTEND;TZID=UTC:20290328T143000
DTSTAMP:20260419T123910
CREATED:20241030T125223Z
LAST-MODIFIED:20250716T140740Z
UID:10000842-1869397200-1869402600@palmettohallhhi.com
SUMMARY:PHWC Book Mates Book Club
DESCRIPTION:
URL:https://palmettohallhhi.com/event/book-mates-book-club/2029-03-28/
LOCATION:venue rotates between members homes
ORGANIZER;CN="Debbie Dusenberry":MAILTO:debbie.dusenberry2@gmail.com
END:VEVENT
BEGIN:VEVENT
DTSTART;TZID=UTC:20290404T140000
DTEND;TZID=UTC:20290404T170000
DTSTAMP:20260419T123910
CREATED:20241030T131503Z
LAST-MODIFIED:20250716T135239Z
UID:10001023-1870005600-1870016400@palmettohallhhi.com
SUMMARY:PHWC Chapters & Chats Book Club
DESCRIPTION:
URL:https://palmettohallhhi.com/event/chapters-chats-book-club/2029-04-04/
LOCATION:venue rotates between members homes
ORGANIZER;CN="Nancy Sigmund":MAILTO:nsiggy410@gmail.com
END:VEVENT
BEGIN:VEVENT
DTSTART;TZID=UTC:20290416T130000
DTEND;TZID=UTC:20290416T143000
DTSTAMP:20260419T123910
CREATED:20241030T131131Z
LAST-MODIFIED:20250716T140632Z
UID:10000963-1871038800-1871044200@palmettohallhhi.com
SUMMARY:PHWC Monday Afternoon Book Club
DESCRIPTION:
URL:https://palmettohallhhi.com/event/monday-afternoon-book-club/2029-04-16/
LOCATION:venue rotates between members homes
END:VEVENT
BEGIN:VEVENT
DTSTART;TZID=UTC:20290419T133000
DTEND;TZID=UTC:20290419T150000
DTSTAMP:20260419T123910
CREATED:20241030T130504Z
LAST-MODIFIED:20250716T134750Z
UID:10000903-1871299800-1871305200@palmettohallhhi.com
SUMMARY:PHWC Cover to Cover Book Club
DESCRIPTION:
URL:https://palmettohallhhi.com/event/cover-to-cover-book-club/2029-04-19/
LOCATION:venue rotates between members homes
END:VEVENT
BEGIN:VEVENT
DTSTART;TZID=UTC:20290423T190000
DTEND;TZID=UTC:20290423T210000
DTSTAMP:20260419T123910
CREATED:20241030T124558Z
LAST-MODIFIED:20250716T140936Z
UID:10000783-1871665200-1871672400@palmettohallhhi.com
SUMMARY:PHWC Night Owls Book Club
DESCRIPTION:
URL:https://palmettohallhhi.com/event/night-owls-book-club/2029-04-23/
LOCATION:venue rotates between members homes
ORGANIZER;CN="Barb Likos":MAILTO:barblikos@gmail.com
END:VEVENT
BEGIN:VEVENT
DTSTART;TZID=UTC:20290425T130000
DTEND;TZID=UTC:20290425T143000
DTSTAMP:20260419T123910
CREATED:20241030T125223Z
LAST-MODIFIED:20250716T140740Z
UID:10000843-1871816400-1871821800@palmettohallhhi.com
SUMMARY:PHWC Book Mates Book Club
DESCRIPTION:
URL:https://palmettohallhhi.com/event/book-mates-book-club/2029-04-25/
LOCATION:venue rotates between members homes
ORGANIZER;CN="Debbie Dusenberry":MAILTO:debbie.dusenberry2@gmail.com
END:VEVENT
BEGIN:VEVENT
DTSTART;TZID=UTC:20290502T140000
DTEND;TZID=UTC:20290502T170000
DTSTAMP:20260419T123910
CREATED:20241030T131503Z
LAST-MODIFIED:20250716T135239Z
UID:10001024-1872424800-1872435600@palmettohallhhi.com
SUMMARY:PHWC Chapters & Chats Book Club
DESCRIPTION:
URL:https://palmettohallhhi.com/event/chapters-chats-book-club/2029-05-02/
LOCATION:venue rotates between members homes
ORGANIZER;CN="Nancy Sigmund":MAILTO:nsiggy410@gmail.com
END:VEVENT
BEGIN:VEVENT
DTSTART;TZID=UTC:20290517T133000
DTEND;TZID=UTC:20290517T150000
DTSTAMP:20260419T123910
CREATED:20241030T130504Z
LAST-MODIFIED:20250716T134750Z
UID:10000904-1873719000-1873724400@palmettohallhhi.com
SUMMARY:PHWC Cover to Cover Book Club
DESCRIPTION:
URL:https://palmettohallhhi.com/event/cover-to-cover-book-club/2029-05-17/
LOCATION:venue rotates between members homes
END:VEVENT
BEGIN:VEVENT
DTSTART;TZID=UTC:20290521T130000
DTEND;TZID=UTC:20290521T143000
DTSTAMP:20260419T123910
CREATED:20241030T131131Z
LAST-MODIFIED:20250716T140632Z
UID:10000964-1874062800-1874068200@palmettohallhhi.com
SUMMARY:PHWC Monday Afternoon Book Club
DESCRIPTION:
URL:https://palmettohallhhi.com/event/monday-afternoon-book-club/2029-05-21/
LOCATION:venue rotates between members homes
END:VEVENT
END:VCALENDAR