BEGIN:VCALENDAR
VERSION:2.0
PRODID:-//Palmetto Hall POA - ECPv6.6.4//NONSGML v1.0//EN
CALSCALE:GREGORIAN
METHOD:PUBLISH
X-WR-CALNAME:Palmetto Hall POA
X-ORIGINAL-URL:https://palmettohallhhi.com
X-WR-CALDESC:Events for Palmetto Hall POA
REFRESH-INTERVAL;VALUE=DURATION:PT1H
X-Robots-Tag:noindex
X-PUBLISHED-TTL:PT1H
BEGIN:VTIMEZONE
TZID:UTC
BEGIN:STANDARD
TZOFFSETFROM:+0000
TZOFFSETTO:+0000
TZNAME:UTC
DTSTART:20290101T000000
END:STANDARD
END:VTIMEZONE
BEGIN:VEVENT
DTSTART;TZID=UTC:20290419T133000
DTEND;TZID=UTC:20290419T150000
DTSTAMP:20260419T155704
CREATED:20241030T130504Z
LAST-MODIFIED:20250716T134750Z
UID:10000903-1871299800-1871305200@palmettohallhhi.com
SUMMARY:PHWC Cover to Cover Book Club
DESCRIPTION:
URL:https://palmettohallhhi.com/event/cover-to-cover-book-club/2029-04-19/
LOCATION:venue rotates between members homes
END:VEVENT
BEGIN:VEVENT
DTSTART;TZID=UTC:20290423T190000
DTEND;TZID=UTC:20290423T210000
DTSTAMP:20260419T155704
CREATED:20241030T124558Z
LAST-MODIFIED:20250716T140936Z
UID:10000783-1871665200-1871672400@palmettohallhhi.com
SUMMARY:PHWC Night Owls Book Club
DESCRIPTION:
URL:https://palmettohallhhi.com/event/night-owls-book-club/2029-04-23/
LOCATION:venue rotates between members homes
ORGANIZER;CN="Barb Likos":MAILTO:barblikos@gmail.com
END:VEVENT
BEGIN:VEVENT
DTSTART;TZID=UTC:20290425T130000
DTEND;TZID=UTC:20290425T143000
DTSTAMP:20260419T155704
CREATED:20241030T125223Z
LAST-MODIFIED:20250716T140740Z
UID:10000843-1871816400-1871821800@palmettohallhhi.com
SUMMARY:PHWC Book Mates Book Club
DESCRIPTION:
URL:https://palmettohallhhi.com/event/book-mates-book-club/2029-04-25/
LOCATION:venue rotates between members homes
ORGANIZER;CN="Debbie Dusenberry":MAILTO:debbie.dusenberry2@gmail.com
END:VEVENT
BEGIN:VEVENT
DTSTART;TZID=UTC:20290502T140000
DTEND;TZID=UTC:20290502T170000
DTSTAMP:20260419T155704
CREATED:20241030T131503Z
LAST-MODIFIED:20250716T135239Z
UID:10001024-1872424800-1872435600@palmettohallhhi.com
SUMMARY:PHWC Chapters & Chats Book Club
DESCRIPTION:
URL:https://palmettohallhhi.com/event/chapters-chats-book-club/2029-05-02/
LOCATION:venue rotates between members homes
ORGANIZER;CN="Nancy Sigmund":MAILTO:nsiggy410@gmail.com
END:VEVENT
BEGIN:VEVENT
DTSTART;TZID=UTC:20290517T133000
DTEND;TZID=UTC:20290517T150000
DTSTAMP:20260419T155704
CREATED:20241030T130504Z
LAST-MODIFIED:20250716T134750Z
UID:10000904-1873719000-1873724400@palmettohallhhi.com
SUMMARY:PHWC Cover to Cover Book Club
DESCRIPTION:
URL:https://palmettohallhhi.com/event/cover-to-cover-book-club/2029-05-17/
LOCATION:venue rotates between members homes
END:VEVENT
BEGIN:VEVENT
DTSTART;TZID=UTC:20290521T130000
DTEND;TZID=UTC:20290521T143000
DTSTAMP:20260419T155704
CREATED:20241030T131131Z
LAST-MODIFIED:20250716T140632Z
UID:10000964-1874062800-1874068200@palmettohallhhi.com
SUMMARY:PHWC Monday Afternoon Book Club
DESCRIPTION:
URL:https://palmettohallhhi.com/event/monday-afternoon-book-club/2029-05-21/
LOCATION:venue rotates between members homes
END:VEVENT
BEGIN:VEVENT
DTSTART;TZID=UTC:20290523T130000
DTEND;TZID=UTC:20290523T143000
DTSTAMP:20260419T155704
CREATED:20241030T125223Z
LAST-MODIFIED:20250716T140740Z
UID:10000844-1874235600-1874241000@palmettohallhhi.com
SUMMARY:PHWC Book Mates Book Club
DESCRIPTION:
URL:https://palmettohallhhi.com/event/book-mates-book-club/2029-05-23/
LOCATION:venue rotates between members homes
ORGANIZER;CN="Debbie Dusenberry":MAILTO:debbie.dusenberry2@gmail.com
END:VEVENT
BEGIN:VEVENT
DTSTART;TZID=UTC:20290528T190000
DTEND;TZID=UTC:20290528T210000
DTSTAMP:20260419T155704
CREATED:20241030T124558Z
LAST-MODIFIED:20250716T140936Z
UID:10000784-1874689200-1874696400@palmettohallhhi.com
SUMMARY:PHWC Night Owls Book Club
DESCRIPTION:
URL:https://palmettohallhhi.com/event/night-owls-book-club/2029-05-28/
LOCATION:venue rotates between members homes
ORGANIZER;CN="Barb Likos":MAILTO:barblikos@gmail.com
END:VEVENT
BEGIN:VEVENT
DTSTART;TZID=UTC:20290606T140000
DTEND;TZID=UTC:20290606T170000
DTSTAMP:20260419T155704
CREATED:20241030T131503Z
LAST-MODIFIED:20250716T135239Z
UID:10001025-1875448800-1875459600@palmettohallhhi.com
SUMMARY:PHWC Chapters & Chats Book Club
DESCRIPTION:
URL:https://palmettohallhhi.com/event/chapters-chats-book-club/2029-06-06/
LOCATION:venue rotates between members homes
ORGANIZER;CN="Nancy Sigmund":MAILTO:nsiggy410@gmail.com
END:VEVENT
BEGIN:VEVENT
DTSTART;TZID=UTC:20290618T130000
DTEND;TZID=UTC:20290618T143000
DTSTAMP:20260419T155704
CREATED:20241030T131131Z
LAST-MODIFIED:20250716T140632Z
UID:10000965-1876482000-1876487400@palmettohallhhi.com
SUMMARY:PHWC Monday Afternoon Book Club
DESCRIPTION:
URL:https://palmettohallhhi.com/event/monday-afternoon-book-club/2029-06-18/
LOCATION:venue rotates between members homes
END:VEVENT
BEGIN:VEVENT
DTSTART;TZID=UTC:20290621T133000
DTEND;TZID=UTC:20290621T150000
DTSTAMP:20260419T155704
CREATED:20241030T130504Z
LAST-MODIFIED:20250716T134750Z
UID:10000905-1876743000-1876748400@palmettohallhhi.com
SUMMARY:PHWC Cover to Cover Book Club
DESCRIPTION:
URL:https://palmettohallhhi.com/event/cover-to-cover-book-club/2029-06-21/
LOCATION:venue rotates between members homes
END:VEVENT
BEGIN:VEVENT
DTSTART;TZID=UTC:20290625T190000
DTEND;TZID=UTC:20290625T210000
DTSTAMP:20260419T155704
CREATED:20241030T124558Z
LAST-MODIFIED:20250716T140936Z
UID:10000785-1877108400-1877115600@palmettohallhhi.com
SUMMARY:PHWC Night Owls Book Club
DESCRIPTION:
URL:https://palmettohallhhi.com/event/night-owls-book-club/2029-06-25/
LOCATION:venue rotates between members homes
ORGANIZER;CN="Barb Likos":MAILTO:barblikos@gmail.com
END:VEVENT
BEGIN:VEVENT
DTSTART;TZID=UTC:20290627T130000
DTEND;TZID=UTC:20290627T143000
DTSTAMP:20260419T155704
CREATED:20241030T125223Z
LAST-MODIFIED:20250716T140740Z
UID:10000845-1877259600-1877265000@palmettohallhhi.com
SUMMARY:PHWC Book Mates Book Club
DESCRIPTION:
URL:https://palmettohallhhi.com/event/book-mates-book-club/2029-06-27/
LOCATION:venue rotates between members homes
ORGANIZER;CN="Debbie Dusenberry":MAILTO:debbie.dusenberry2@gmail.com
END:VEVENT
BEGIN:VEVENT
DTSTART;TZID=UTC:20290704T140000
DTEND;TZID=UTC:20290704T170000
DTSTAMP:20260419T155704
CREATED:20241030T131503Z
LAST-MODIFIED:20250716T135239Z
UID:10001026-1877868000-1877878800@palmettohallhhi.com
SUMMARY:PHWC Chapters & Chats Book Club
DESCRIPTION:
URL:https://palmettohallhhi.com/event/chapters-chats-book-club/2029-07-04/
LOCATION:venue rotates between members homes
ORGANIZER;CN="Nancy Sigmund":MAILTO:nsiggy410@gmail.com
END:VEVENT
BEGIN:VEVENT
DTSTART;TZID=UTC:20290716T130000
DTEND;TZID=UTC:20290716T143000
DTSTAMP:20260419T155704
CREATED:20241030T131131Z
LAST-MODIFIED:20250716T140632Z
UID:10000966-1878901200-1878906600@palmettohallhhi.com
SUMMARY:PHWC Monday Afternoon Book Club
DESCRIPTION:
URL:https://palmettohallhhi.com/event/monday-afternoon-book-club/2029-07-16/
LOCATION:venue rotates between members homes
END:VEVENT
BEGIN:VEVENT
DTSTART;TZID=UTC:20290719T133000
DTEND;TZID=UTC:20290719T150000
DTSTAMP:20260419T155704
CREATED:20241030T130504Z
LAST-MODIFIED:20250716T134750Z
UID:10000906-1879162200-1879167600@palmettohallhhi.com
SUMMARY:PHWC Cover to Cover Book Club
DESCRIPTION:
URL:https://palmettohallhhi.com/event/cover-to-cover-book-club/2029-07-19/
LOCATION:venue rotates between members homes
END:VEVENT
BEGIN:VEVENT
DTSTART;TZID=UTC:20290723T190000
DTEND;TZID=UTC:20290723T210000
DTSTAMP:20260419T155704
CREATED:20241030T124558Z
LAST-MODIFIED:20250716T140936Z
UID:10000786-1879527600-1879534800@palmettohallhhi.com
SUMMARY:PHWC Night Owls Book Club
DESCRIPTION:
URL:https://palmettohallhhi.com/event/night-owls-book-club/2029-07-23/
LOCATION:venue rotates between members homes
ORGANIZER;CN="Barb Likos":MAILTO:barblikos@gmail.com
END:VEVENT
BEGIN:VEVENT
DTSTART;TZID=UTC:20290725T130000
DTEND;TZID=UTC:20290725T143000
DTSTAMP:20260419T155704
CREATED:20241030T125223Z
LAST-MODIFIED:20250716T140740Z
UID:10000846-1879678800-1879684200@palmettohallhhi.com
SUMMARY:PHWC Book Mates Book Club
DESCRIPTION:
URL:https://palmettohallhhi.com/event/book-mates-book-club/2029-07-25/
LOCATION:venue rotates between members homes
ORGANIZER;CN="Debbie Dusenberry":MAILTO:debbie.dusenberry2@gmail.com
END:VEVENT
BEGIN:VEVENT
DTSTART;TZID=UTC:20290801T140000
DTEND;TZID=UTC:20290801T170000
DTSTAMP:20260419T155704
CREATED:20241030T131503Z
LAST-MODIFIED:20250716T135239Z
UID:10001027-1880287200-1880298000@palmettohallhhi.com
SUMMARY:PHWC Chapters & Chats Book Club
DESCRIPTION:
URL:https://palmettohallhhi.com/event/chapters-chats-book-club/2029-08-01/
LOCATION:venue rotates between members homes
ORGANIZER;CN="Nancy Sigmund":MAILTO:nsiggy410@gmail.com
END:VEVENT
BEGIN:VEVENT
DTSTART;TZID=UTC:20290816T133000
DTEND;TZID=UTC:20290816T150000
DTSTAMP:20260419T155704
CREATED:20241030T130504Z
LAST-MODIFIED:20250716T134750Z
UID:10000907-1881581400-1881586800@palmettohallhhi.com
SUMMARY:PHWC Cover to Cover Book Club
DESCRIPTION:
URL:https://palmettohallhhi.com/event/cover-to-cover-book-club/2029-08-16/
LOCATION:venue rotates between members homes
END:VEVENT
BEGIN:VEVENT
DTSTART;TZID=UTC:20290820T130000
DTEND;TZID=UTC:20290820T143000
DTSTAMP:20260419T155704
CREATED:20241030T131131Z
LAST-MODIFIED:20250716T140632Z
UID:10000967-1881925200-1881930600@palmettohallhhi.com
SUMMARY:PHWC Monday Afternoon Book Club
DESCRIPTION:
URL:https://palmettohallhhi.com/event/monday-afternoon-book-club/2029-08-20/
LOCATION:venue rotates between members homes
END:VEVENT
BEGIN:VEVENT
DTSTART;TZID=UTC:20290822T130000
DTEND;TZID=UTC:20290822T143000
DTSTAMP:20260419T155704
CREATED:20241030T125223Z
LAST-MODIFIED:20250716T140740Z
UID:10000847-1882098000-1882103400@palmettohallhhi.com
SUMMARY:PHWC Book Mates Book Club
DESCRIPTION:
URL:https://palmettohallhhi.com/event/book-mates-book-club/2029-08-22/
LOCATION:venue rotates between members homes
ORGANIZER;CN="Debbie Dusenberry":MAILTO:debbie.dusenberry2@gmail.com
END:VEVENT
BEGIN:VEVENT
DTSTART;TZID=UTC:20290827T190000
DTEND;TZID=UTC:20290827T210000
DTSTAMP:20260419T155704
CREATED:20241030T124558Z
LAST-MODIFIED:20250716T140936Z
UID:10000787-1882551600-1882558800@palmettohallhhi.com
SUMMARY:PHWC Night Owls Book Club
DESCRIPTION:
URL:https://palmettohallhhi.com/event/night-owls-book-club/2029-08-27/
LOCATION:venue rotates between members homes
ORGANIZER;CN="Barb Likos":MAILTO:barblikos@gmail.com
END:VEVENT
BEGIN:VEVENT
DTSTART;TZID=UTC:20290905T140000
DTEND;TZID=UTC:20290905T170000
DTSTAMP:20260419T155704
CREATED:20241030T131503Z
LAST-MODIFIED:20250716T135239Z
UID:10001028-1883311200-1883322000@palmettohallhhi.com
SUMMARY:PHWC Chapters & Chats Book Club
DESCRIPTION:
URL:https://palmettohallhhi.com/event/chapters-chats-book-club/2029-09-05/
LOCATION:venue rotates between members homes
ORGANIZER;CN="Nancy Sigmund":MAILTO:nsiggy410@gmail.com
END:VEVENT
BEGIN:VEVENT
DTSTART;TZID=UTC:20290917T130000
DTEND;TZID=UTC:20290917T143000
DTSTAMP:20260419T155704
CREATED:20241030T131131Z
LAST-MODIFIED:20250716T140632Z
UID:10000968-1884344400-1884349800@palmettohallhhi.com
SUMMARY:PHWC Monday Afternoon Book Club
DESCRIPTION:
URL:https://palmettohallhhi.com/event/monday-afternoon-book-club/2029-09-17/
LOCATION:venue rotates between members homes
END:VEVENT
BEGIN:VEVENT
DTSTART;TZID=UTC:20290920T133000
DTEND;TZID=UTC:20290920T150000
DTSTAMP:20260419T155704
CREATED:20241030T130504Z
LAST-MODIFIED:20250716T134750Z
UID:10000908-1884605400-1884610800@palmettohallhhi.com
SUMMARY:PHWC Cover to Cover Book Club
DESCRIPTION:
URL:https://palmettohallhhi.com/event/cover-to-cover-book-club/2029-09-20/
LOCATION:venue rotates between members homes
END:VEVENT
BEGIN:VEVENT
DTSTART;TZID=UTC:20290924T190000
DTEND;TZID=UTC:20290924T210000
DTSTAMP:20260419T155704
CREATED:20241030T124558Z
LAST-MODIFIED:20250716T140936Z
UID:10000788-1884970800-1884978000@palmettohallhhi.com
SUMMARY:PHWC Night Owls Book Club
DESCRIPTION:
URL:https://palmettohallhhi.com/event/night-owls-book-club/2029-09-24/
LOCATION:venue rotates between members homes
ORGANIZER;CN="Barb Likos":MAILTO:barblikos@gmail.com
END:VEVENT
BEGIN:VEVENT
DTSTART;TZID=UTC:20290926T130000
DTEND;TZID=UTC:20290926T143000
DTSTAMP:20260419T155704
CREATED:20241030T125223Z
LAST-MODIFIED:20250716T140740Z
UID:10000848-1885122000-1885127400@palmettohallhhi.com
SUMMARY:PHWC Book Mates Book Club
DESCRIPTION:
URL:https://palmettohallhhi.com/event/book-mates-book-club/2029-09-26/
LOCATION:venue rotates between members homes
ORGANIZER;CN="Debbie Dusenberry":MAILTO:debbie.dusenberry2@gmail.com
END:VEVENT
BEGIN:VEVENT
DTSTART;TZID=UTC:20291003T140000
DTEND;TZID=UTC:20291003T170000
DTSTAMP:20260419T155704
CREATED:20241030T131503Z
LAST-MODIFIED:20250716T135239Z
UID:10001029-1885730400-1885741200@palmettohallhhi.com
SUMMARY:PHWC Chapters & Chats Book Club
DESCRIPTION:
URL:https://palmettohallhhi.com/event/chapters-chats-book-club/2029-10-03/
LOCATION:venue rotates between members homes
ORGANIZER;CN="Nancy Sigmund":MAILTO:nsiggy410@gmail.com
END:VEVENT
BEGIN:VEVENT
DTSTART;TZID=UTC:20291015T130000
DTEND;TZID=UTC:20291015T143000
DTSTAMP:20260419T155704
CREATED:20241030T131131Z
LAST-MODIFIED:20250716T140632Z
UID:10000969-1886763600-1886769000@palmettohallhhi.com
SUMMARY:PHWC Monday Afternoon Book Club
DESCRIPTION:
URL:https://palmettohallhhi.com/event/monday-afternoon-book-club/2029-10-15/
LOCATION:venue rotates between members homes
END:VEVENT
END:VCALENDAR