BEGIN:VCALENDAR
VERSION:2.0
PRODID:-//Palmetto Hall POA - ECPv6.6.4//NONSGML v1.0//EN
CALSCALE:GREGORIAN
METHOD:PUBLISH
X-ORIGINAL-URL:https://palmettohallhhi.com
X-WR-CALDESC:Events for Palmetto Hall POA
REFRESH-INTERVAL;VALUE=DURATION:PT1H
X-Robots-Tag:noindex
X-PUBLISHED-TTL:PT1H
BEGIN:VTIMEZONE
TZID:UTC
BEGIN:STANDARD
TZOFFSETFROM:+0000
TZOFFSETTO:+0000
TZNAME:UTC
DTSTART:20290101T000000
END:STANDARD
END:VTIMEZONE
BEGIN:VEVENT
DTSTART;TZID=UTC:20290917T130000
DTEND;TZID=UTC:20290917T143000
DTSTAMP:20260419T191020
CREATED:20241030T131131Z
LAST-MODIFIED:20250716T140632Z
UID:10000968-1884344400-1884349800@palmettohallhhi.com
SUMMARY:PHWC Monday Afternoon Book Club
DESCRIPTION:
URL:https://palmettohallhhi.com/event/monday-afternoon-book-club/2029-09-17/
LOCATION:venue rotates between members homes
END:VEVENT
BEGIN:VEVENT
DTSTART;TZID=UTC:20290920T133000
DTEND;TZID=UTC:20290920T150000
DTSTAMP:20260419T191020
CREATED:20241030T130504Z
LAST-MODIFIED:20250716T134750Z
UID:10000908-1884605400-1884610800@palmettohallhhi.com
SUMMARY:PHWC Cover to Cover Book Club
DESCRIPTION:
URL:https://palmettohallhhi.com/event/cover-to-cover-book-club/2029-09-20/
LOCATION:venue rotates between members homes
END:VEVENT
BEGIN:VEVENT
DTSTART;TZID=UTC:20290924T190000
DTEND;TZID=UTC:20290924T210000
DTSTAMP:20260419T191020
CREATED:20241030T124558Z
LAST-MODIFIED:20250716T140936Z
UID:10000788-1884970800-1884978000@palmettohallhhi.com
SUMMARY:PHWC Night Owls Book Club
DESCRIPTION:
URL:https://palmettohallhhi.com/event/night-owls-book-club/2029-09-24/
LOCATION:venue rotates between members homes
ORGANIZER;CN="Barb Likos":MAILTO:barblikos@gmail.com
END:VEVENT
BEGIN:VEVENT
DTSTART;TZID=UTC:20290926T130000
DTEND;TZID=UTC:20290926T143000
DTSTAMP:20260419T191020
CREATED:20241030T125223Z
LAST-MODIFIED:20250716T140740Z
UID:10000848-1885122000-1885127400@palmettohallhhi.com
SUMMARY:PHWC Book Mates Book Club
DESCRIPTION:
URL:https://palmettohallhhi.com/event/book-mates-book-club/2029-09-26/
LOCATION:venue rotates between members homes
ORGANIZER;CN="Debbie Dusenberry":MAILTO:debbie.dusenberry2@gmail.com
END:VEVENT
BEGIN:VEVENT
DTSTART;TZID=UTC:20291003T140000
DTEND;TZID=UTC:20291003T170000
DTSTAMP:20260419T191020
CREATED:20241030T131503Z
LAST-MODIFIED:20250716T135239Z
UID:10001029-1885730400-1885741200@palmettohallhhi.com
SUMMARY:PHWC Chapters & Chats Book Club
DESCRIPTION:
URL:https://palmettohallhhi.com/event/chapters-chats-book-club/2029-10-03/
LOCATION:venue rotates between members homes
ORGANIZER;CN="Nancy Sigmund":MAILTO:nsiggy410@gmail.com
END:VEVENT
BEGIN:VEVENT
DTSTART;TZID=UTC:20291015T130000
DTEND;TZID=UTC:20291015T143000
DTSTAMP:20260419T191020
CREATED:20241030T131131Z
LAST-MODIFIED:20250716T140632Z
UID:10000969-1886763600-1886769000@palmettohallhhi.com
SUMMARY:PHWC Monday Afternoon Book Club
DESCRIPTION:
URL:https://palmettohallhhi.com/event/monday-afternoon-book-club/2029-10-15/
LOCATION:venue rotates between members homes
END:VEVENT
BEGIN:VEVENT
DTSTART;TZID=UTC:20291018T133000
DTEND;TZID=UTC:20291018T150000
DTSTAMP:20260419T191020
CREATED:20241030T130504Z
LAST-MODIFIED:20250716T134750Z
UID:10000909-1887024600-1887030000@palmettohallhhi.com
SUMMARY:PHWC Cover to Cover Book Club
DESCRIPTION:
URL:https://palmettohallhhi.com/event/cover-to-cover-book-club/2029-10-18/
LOCATION:venue rotates between members homes
END:VEVENT
BEGIN:VEVENT
DTSTART;TZID=UTC:20291022T190000
DTEND;TZID=UTC:20291022T210000
DTSTAMP:20260419T191020
CREATED:20241030T124558Z
LAST-MODIFIED:20250716T140936Z
UID:10000789-1887390000-1887397200@palmettohallhhi.com
SUMMARY:PHWC Night Owls Book Club
DESCRIPTION:
URL:https://palmettohallhhi.com/event/night-owls-book-club/2029-10-22/
LOCATION:venue rotates between members homes
ORGANIZER;CN="Barb Likos":MAILTO:barblikos@gmail.com
END:VEVENT
BEGIN:VEVENT
DTSTART;TZID=UTC:20291024T130000
DTEND;TZID=UTC:20291024T143000
DTSTAMP:20260419T191020
CREATED:20241030T125223Z
LAST-MODIFIED:20250716T140740Z
UID:10000849-1887541200-1887546600@palmettohallhhi.com
SUMMARY:PHWC Book Mates Book Club
DESCRIPTION:
URL:https://palmettohallhhi.com/event/book-mates-book-club/2029-10-24/
LOCATION:venue rotates between members homes
ORGANIZER;CN="Debbie Dusenberry":MAILTO:debbie.dusenberry2@gmail.com
END:VEVENT
BEGIN:VEVENT
DTSTART;TZID=UTC:20291107T140000
DTEND;TZID=UTC:20291107T170000
DTSTAMP:20260419T191020
CREATED:20241030T131503Z
LAST-MODIFIED:20250716T135239Z
UID:10002449-1888754400-1888765200@palmettohallhhi.com
SUMMARY:PHWC Chapters & Chats Book Club
DESCRIPTION:
URL:https://palmettohallhhi.com/event/chapters-chats-book-club/2029-11-07/
LOCATION:venue rotates between members homes
ORGANIZER;CN="Nancy Sigmund":MAILTO:nsiggy410@gmail.com
END:VEVENT
BEGIN:VEVENT
DTSTART;TZID=UTC:20291115T133000
DTEND;TZID=UTC:20291115T150000
DTSTAMP:20260419T191020
CREATED:20241030T130504Z
LAST-MODIFIED:20250716T134750Z
UID:10002432-1889443800-1889449200@palmettohallhhi.com
SUMMARY:PHWC Cover to Cover Book Club
DESCRIPTION:
URL:https://palmettohallhhi.com/event/cover-to-cover-book-club/2029-11-15/
LOCATION:venue rotates between members homes
END:VEVENT
BEGIN:VEVENT
DTSTART;TZID=UTC:20291119T130000
DTEND;TZID=UTC:20291119T143000
DTSTAMP:20260419T191020
CREATED:20241030T131131Z
LAST-MODIFIED:20250716T140632Z
UID:10002459-1889787600-1889793000@palmettohallhhi.com
SUMMARY:PHWC Monday Afternoon Book Club
DESCRIPTION:
URL:https://palmettohallhhi.com/event/monday-afternoon-book-club/2029-11-19/
LOCATION:venue rotates between members homes
END:VEVENT
BEGIN:VEVENT
DTSTART;TZID=UTC:20291126T190000
DTEND;TZID=UTC:20291126T210000
DTSTAMP:20260419T191020
CREATED:20241030T124558Z
LAST-MODIFIED:20250716T140936Z
UID:10001664-1890414000-1890421200@palmettohallhhi.com
SUMMARY:PHWC Night Owls Book Club
DESCRIPTION:
URL:https://palmettohallhhi.com/event/night-owls-book-club/2029-11-26/
LOCATION:venue rotates between members homes
ORGANIZER;CN="Barb Likos":MAILTO:barblikos@gmail.com
END:VEVENT
BEGIN:VEVENT
DTSTART;TZID=UTC:20291128T130000
DTEND;TZID=UTC:20291128T143000
DTSTAMP:20260419T191020
CREATED:20241030T125223Z
LAST-MODIFIED:20250716T140740Z
UID:10002468-1890565200-1890570600@palmettohallhhi.com
SUMMARY:PHWC Book Mates Book Club
DESCRIPTION:
URL:https://palmettohallhhi.com/event/book-mates-book-club/2029-11-28/
LOCATION:venue rotates between members homes
ORGANIZER;CN="Debbie Dusenberry":MAILTO:debbie.dusenberry2@gmail.com
END:VEVENT
BEGIN:VEVENT
DTSTART;TZID=UTC:20291205T140000
DTEND;TZID=UTC:20291205T170000
DTSTAMP:20260419T191020
CREATED:20241030T131503Z
LAST-MODIFIED:20250716T135239Z
UID:10002450-1891173600-1891184400@palmettohallhhi.com
SUMMARY:PHWC Chapters & Chats Book Club
DESCRIPTION:
URL:https://palmettohallhhi.com/event/chapters-chats-book-club/2029-12-05/
LOCATION:venue rotates between members homes
ORGANIZER;CN="Nancy Sigmund":MAILTO:nsiggy410@gmail.com
END:VEVENT
BEGIN:VEVENT
DTSTART;TZID=UTC:20291217T130000
DTEND;TZID=UTC:20291217T143000
DTSTAMP:20260419T191020
CREATED:20241030T131131Z
LAST-MODIFIED:20250716T140632Z
UID:10002460-1892206800-1892212200@palmettohallhhi.com
SUMMARY:PHWC Monday Afternoon Book Club
DESCRIPTION:
URL:https://palmettohallhhi.com/event/monday-afternoon-book-club/2029-12-17/
LOCATION:venue rotates between members homes
END:VEVENT
BEGIN:VEVENT
DTSTART;TZID=UTC:20291220T133000
DTEND;TZID=UTC:20291220T150000
DTSTAMP:20260419T191020
CREATED:20241030T130504Z
LAST-MODIFIED:20250716T134750Z
UID:10002433-1892467800-1892473200@palmettohallhhi.com
SUMMARY:PHWC Cover to Cover Book Club
DESCRIPTION:
URL:https://palmettohallhhi.com/event/cover-to-cover-book-club/2029-12-20/
LOCATION:venue rotates between members homes
END:VEVENT
BEGIN:VEVENT
DTSTART;TZID=UTC:20291224T190000
DTEND;TZID=UTC:20291224T210000
DTSTAMP:20260419T191020
CREATED:20241030T124558Z
LAST-MODIFIED:20250716T140936Z
UID:10001665-1892833200-1892840400@palmettohallhhi.com
SUMMARY:PHWC Night Owls Book Club
DESCRIPTION:
URL:https://palmettohallhhi.com/event/night-owls-book-club/2029-12-24/
LOCATION:venue rotates between members homes
ORGANIZER;CN="Barb Likos":MAILTO:barblikos@gmail.com
END:VEVENT
BEGIN:VEVENT
DTSTART;TZID=UTC:20291226T130000
DTEND;TZID=UTC:20291226T143000
DTSTAMP:20260419T191020
CREATED:20241030T125223Z
LAST-MODIFIED:20250716T140740Z
UID:10002469-1892984400-1892989800@palmettohallhhi.com
SUMMARY:PHWC Book Mates Book Club
DESCRIPTION:
URL:https://palmettohallhhi.com/event/book-mates-book-club/2029-12-26/
LOCATION:venue rotates between members homes
ORGANIZER;CN="Debbie Dusenberry":MAILTO:debbie.dusenberry2@gmail.com
END:VEVENT
BEGIN:VEVENT
DTSTART;TZID=UTC:20300102T140000
DTEND;TZID=UTC:20300102T170000
DTSTAMP:20260419T191020
CREATED:20241030T131503Z
LAST-MODIFIED:20250716T135239Z
UID:10002451-1893592800-1893603600@palmettohallhhi.com
SUMMARY:PHWC Chapters & Chats Book Club
DESCRIPTION:
URL:https://palmettohallhhi.com/event/chapters-chats-book-club/2030-01-02/
LOCATION:venue rotates between members homes
ORGANIZER;CN="Nancy Sigmund":MAILTO:nsiggy410@gmail.com
END:VEVENT
BEGIN:VEVENT
DTSTART;TZID=UTC:20300117T133000
DTEND;TZID=UTC:20300117T150000
DTSTAMP:20260419T191020
CREATED:20241030T130504Z
LAST-MODIFIED:20250716T134750Z
UID:10002434-1894887000-1894892400@palmettohallhhi.com
SUMMARY:PHWC Cover to Cover Book Club
DESCRIPTION:
URL:https://palmettohallhhi.com/event/cover-to-cover-book-club/2030-01-17/
LOCATION:venue rotates between members homes
END:VEVENT
BEGIN:VEVENT
DTSTART;TZID=UTC:20300121T130000
DTEND;TZID=UTC:20300121T143000
DTSTAMP:20260419T191020
CREATED:20241030T131131Z
LAST-MODIFIED:20250716T140632Z
UID:10002461-1895230800-1895236200@palmettohallhhi.com
SUMMARY:PHWC Monday Afternoon Book Club
DESCRIPTION:
URL:https://palmettohallhhi.com/event/monday-afternoon-book-club/2030-01-21/
LOCATION:venue rotates between members homes
END:VEVENT
BEGIN:VEVENT
DTSTART;TZID=UTC:20300123T130000
DTEND;TZID=UTC:20300123T143000
DTSTAMP:20260419T191020
CREATED:20241030T125223Z
LAST-MODIFIED:20250716T140740Z
UID:10002470-1895403600-1895409000@palmettohallhhi.com
SUMMARY:PHWC Book Mates Book Club
DESCRIPTION:
URL:https://palmettohallhhi.com/event/book-mates-book-club/2030-01-23/
LOCATION:venue rotates between members homes
ORGANIZER;CN="Debbie Dusenberry":MAILTO:debbie.dusenberry2@gmail.com
END:VEVENT
BEGIN:VEVENT
DTSTART;TZID=UTC:20300128T190000
DTEND;TZID=UTC:20300128T210000
DTSTAMP:20260419T191020
CREATED:20241030T124558Z
LAST-MODIFIED:20250716T140936Z
UID:10002476-1895857200-1895864400@palmettohallhhi.com
SUMMARY:PHWC Night Owls Book Club
DESCRIPTION:
URL:https://palmettohallhhi.com/event/night-owls-book-club/2030-01-28/
LOCATION:venue rotates between members homes
ORGANIZER;CN="Barb Likos":MAILTO:barblikos@gmail.com
END:VEVENT
BEGIN:VEVENT
DTSTART;TZID=UTC:20300206T140000
DTEND;TZID=UTC:20300206T170000
DTSTAMP:20260419T191020
CREATED:20241030T131503Z
LAST-MODIFIED:20250716T135239Z
UID:10002452-1896616800-1896627600@palmettohallhhi.com
SUMMARY:PHWC Chapters & Chats Book Club
DESCRIPTION:
URL:https://palmettohallhhi.com/event/chapters-chats-book-club/2030-02-06/
LOCATION:venue rotates between members homes
ORGANIZER;CN="Nancy Sigmund":MAILTO:nsiggy410@gmail.com
END:VEVENT
BEGIN:VEVENT
DTSTART;TZID=UTC:20300218T130000
DTEND;TZID=UTC:20300218T143000
DTSTAMP:20260419T191020
CREATED:20241030T131131Z
LAST-MODIFIED:20250716T140632Z
UID:10002462-1897650000-1897655400@palmettohallhhi.com
SUMMARY:PHWC Monday Afternoon Book Club
DESCRIPTION:
URL:https://palmettohallhhi.com/event/monday-afternoon-book-club/2030-02-18/
LOCATION:venue rotates between members homes
END:VEVENT
BEGIN:VEVENT
DTSTART;TZID=UTC:20300221T133000
DTEND;TZID=UTC:20300221T150000
DTSTAMP:20260419T191020
CREATED:20241030T130504Z
LAST-MODIFIED:20250716T134750Z
UID:10002435-1897911000-1897916400@palmettohallhhi.com
SUMMARY:PHWC Cover to Cover Book Club
DESCRIPTION:
URL:https://palmettohallhhi.com/event/cover-to-cover-book-club/2030-02-21/
LOCATION:venue rotates between members homes
END:VEVENT
BEGIN:VEVENT
DTSTART;TZID=UTC:20300225T190000
DTEND;TZID=UTC:20300225T210000
DTSTAMP:20260419T191020
CREATED:20241030T124558Z
LAST-MODIFIED:20250716T140936Z
UID:10002477-1898276400-1898283600@palmettohallhhi.com
SUMMARY:PHWC Night Owls Book Club
DESCRIPTION:
URL:https://palmettohallhhi.com/event/night-owls-book-club/2030-02-25/
LOCATION:venue rotates between members homes
ORGANIZER;CN="Barb Likos":MAILTO:barblikos@gmail.com
END:VEVENT
BEGIN:VEVENT
DTSTART;TZID=UTC:20300227T130000
DTEND;TZID=UTC:20300227T143000
DTSTAMP:20260419T191020
CREATED:20241030T125223Z
LAST-MODIFIED:20250716T140740Z
UID:10002471-1898427600-1898433000@palmettohallhhi.com
SUMMARY:PHWC Book Mates Book Club
DESCRIPTION:
URL:https://palmettohallhhi.com/event/book-mates-book-club/2030-02-27/
LOCATION:venue rotates between members homes
ORGANIZER;CN="Debbie Dusenberry":MAILTO:debbie.dusenberry2@gmail.com
END:VEVENT
BEGIN:VEVENT
DTSTART;TZID=UTC:20300306T140000
DTEND;TZID=UTC:20300306T170000
DTSTAMP:20260419T191020
CREATED:20241030T131503Z
LAST-MODIFIED:20250716T135239Z
UID:10002453-1899036000-1899046800@palmettohallhhi.com
SUMMARY:PHWC Chapters & Chats Book Club
DESCRIPTION:
URL:https://palmettohallhhi.com/event/chapters-chats-book-club/2030-03-06/
LOCATION:venue rotates between members homes
ORGANIZER;CN="Nancy Sigmund":MAILTO:nsiggy410@gmail.com
END:VEVENT
END:VCALENDAR