BEGIN:VCALENDAR
VERSION:2.0
PRODID:-//Palmetto Hall POA - ECPv6.6.4//NONSGML v1.0//EN
CALSCALE:GREGORIAN
METHOD:PUBLISH
X-ORIGINAL-URL:https://palmettohallhhi.com
X-WR-CALDESC:Events for Palmetto Hall POA
REFRESH-INTERVAL;VALUE=DURATION:PT1H
X-Robots-Tag:noindex
X-PUBLISHED-TTL:PT1H
BEGIN:VTIMEZONE
TZID:UTC
BEGIN:STANDARD
TZOFFSETFROM:+0000
TZOFFSETTO:+0000
TZNAME:UTC
DTSTART:20240101T000000
END:STANDARD
END:VTIMEZONE
BEGIN:VEVENT
DTSTART;TZID=UTC:20250205T140000
DTEND;TZID=UTC:20250205T170000
DTSTAMP:20260420T001035
CREATED:20241030T131503Z
LAST-MODIFIED:20250716T135239Z
UID:10000973-1738764000-1738774800@palmettohallhhi.com
SUMMARY:PHWC Chapters & Chats Book Club
DESCRIPTION:
URL:https://palmettohallhhi.com/event/chapters-chats-book-club/2025-02-05/
LOCATION:venue rotates between members homes
ORGANIZER;CN="Nancy Sigmund":MAILTO:nsiggy410@gmail.com
END:VEVENT
BEGIN:VEVENT
DTSTART;TZID=UTC:20250127T190000
DTEND;TZID=UTC:20250127T210000
DTSTAMP:20260420T001035
CREATED:20241030T124558Z
LAST-MODIFIED:20250716T140936Z
UID:10000732-1738004400-1738011600@palmettohallhhi.com
SUMMARY:PHWC Night Owls Book Club
DESCRIPTION:
URL:https://palmettohallhhi.com/event/night-owls-book-club/2025-01-27/
LOCATION:venue rotates between members homes
ORGANIZER;CN="Barb Likos":MAILTO:barblikos@gmail.com
END:VEVENT
BEGIN:VEVENT
DTSTART;TZID=UTC:20250122T130000
DTEND;TZID=UTC:20250122T143000
DTSTAMP:20260420T001035
CREATED:20241030T125223Z
LAST-MODIFIED:20250716T140740Z
UID:10000792-1737550800-1737556200@palmettohallhhi.com
SUMMARY:PHWC Book Mates Book Club
DESCRIPTION:
URL:https://palmettohallhhi.com/event/book-mates-book-club/2025-01-22/
LOCATION:venue rotates between members homes
ORGANIZER;CN="Debbie Dusenberry":MAILTO:debbie.dusenberry2@gmail.com
END:VEVENT
BEGIN:VEVENT
DTSTART;TZID=UTC:20250120T130000
DTEND;TZID=UTC:20250120T143000
DTSTAMP:20260420T001035
CREATED:20241030T131131Z
LAST-MODIFIED:20250716T140632Z
UID:10000912-1737378000-1737383400@palmettohallhhi.com
SUMMARY:PHWC Monday Afternoon Book Club
DESCRIPTION:
URL:https://palmettohallhhi.com/event/monday-afternoon-book-club/2025-01-20/
LOCATION:venue rotates between members homes
END:VEVENT
BEGIN:VEVENT
DTSTART;TZID=UTC:20250116T133000
DTEND;TZID=UTC:20250116T150000
DTSTAMP:20260420T001035
CREATED:20241030T130504Z
LAST-MODIFIED:20250716T134750Z
UID:10000852-1737034200-1737039600@palmettohallhhi.com
SUMMARY:PHWC Cover to Cover Book Club
DESCRIPTION:
URL:https://palmettohallhhi.com/event/cover-to-cover-book-club/2025-01-16/
LOCATION:venue rotates between members homes
END:VEVENT
BEGIN:VEVENT
DTSTART;TZID=UTC:20250101T140000
DTEND;TZID=UTC:20250101T170000
DTSTAMP:20260420T001035
CREATED:20241030T131503Z
LAST-MODIFIED:20250716T135239Z
UID:10000972-1735740000-1735750800@palmettohallhhi.com
SUMMARY:PHWC Chapters & Chats Book Club
DESCRIPTION:
URL:https://palmettohallhhi.com/event/chapters-chats-book-club/2025-01-01/
LOCATION:venue rotates between members homes
ORGANIZER;CN="Nancy Sigmund":MAILTO:nsiggy410@gmail.com
END:VEVENT
BEGIN:VEVENT
DTSTART;TZID=UTC:20241225T130000
DTEND;TZID=UTC:20241225T143000
DTSTAMP:20260420T001035
CREATED:20241030T125223Z
LAST-MODIFIED:20250716T140740Z
UID:10000791-1735131600-1735137000@palmettohallhhi.com
SUMMARY:PHWC Book Mates Book Club
DESCRIPTION:
URL:https://palmettohallhhi.com/event/book-mates-book-club/2024-12-25/
LOCATION:venue rotates between members homes
ORGANIZER;CN="Debbie Dusenberry":MAILTO:debbie.dusenberry2@gmail.com
END:VEVENT
BEGIN:VEVENT
DTSTART;TZID=UTC:20241223T190000
DTEND;TZID=UTC:20241223T210000
DTSTAMP:20260420T001035
CREATED:20241030T124558Z
LAST-MODIFIED:20250716T140936Z
UID:10000731-1734980400-1734987600@palmettohallhhi.com
SUMMARY:PHWC Night Owls Book Club
DESCRIPTION:
URL:https://palmettohallhhi.com/event/night-owls-book-club/2024-12-23/
LOCATION:venue rotates between members homes
ORGANIZER;CN="Barb Likos":MAILTO:barblikos@gmail.com
END:VEVENT
BEGIN:VEVENT
DTSTART;TZID=UTC:20241219T133000
DTEND;TZID=UTC:20241219T150000
DTSTAMP:20260420T001035
CREATED:20241030T130504Z
LAST-MODIFIED:20250716T134750Z
UID:10000851-1734615000-1734620400@palmettohallhhi.com
SUMMARY:PHWC Cover to Cover Book Club
DESCRIPTION:
URL:https://palmettohallhhi.com/event/cover-to-cover-book-club/2024-12-19/
LOCATION:venue rotates between members homes
END:VEVENT
BEGIN:VEVENT
DTSTART;TZID=UTC:20241216T130000
DTEND;TZID=UTC:20241216T143000
DTSTAMP:20260420T001035
CREATED:20241030T131131Z
LAST-MODIFIED:20250716T140632Z
UID:10000911-1734354000-1734359400@palmettohallhhi.com
SUMMARY:PHWC Monday Afternoon Book Club
DESCRIPTION:
URL:https://palmettohallhhi.com/event/monday-afternoon-book-club/2024-12-16/
LOCATION:venue rotates between members homes
END:VEVENT
BEGIN:VEVENT
DTSTART;TZID=UTC:20241204T140000
DTEND;TZID=UTC:20241204T170000
DTSTAMP:20260420T001035
CREATED:20241030T131503Z
LAST-MODIFIED:20250716T135239Z
UID:10000971-1733320800-1733331600@palmettohallhhi.com
SUMMARY:PHWC Chapters & Chats Book Club
DESCRIPTION:
URL:https://palmettohallhhi.com/event/chapters-chats-book-club/2024-12-04/
LOCATION:venue rotates between members homes
ORGANIZER;CN="Nancy Sigmund":MAILTO:nsiggy410@gmail.com
END:VEVENT
BEGIN:VEVENT
DTSTART;TZID=UTC:20241127T130000
DTEND;TZID=UTC:20241127T143000
DTSTAMP:20260420T001035
CREATED:20241030T125223Z
LAST-MODIFIED:20250716T140740Z
UID:10000790-1732712400-1732717800@palmettohallhhi.com
SUMMARY:PHWC Book Mates Book Club
DESCRIPTION:
URL:https://palmettohallhhi.com/event/book-mates-book-club/2024-11-27/
LOCATION:venue rotates between members homes
ORGANIZER;CN="Debbie Dusenberry":MAILTO:debbie.dusenberry2@gmail.com
END:VEVENT
BEGIN:VEVENT
DTSTART;TZID=UTC:20241125T190000
DTEND;TZID=UTC:20241125T210000
DTSTAMP:20260420T001035
CREATED:20241030T124558Z
LAST-MODIFIED:20250716T140936Z
UID:10000730-1732561200-1732568400@palmettohallhhi.com
SUMMARY:PHWC Night Owls Book Club
DESCRIPTION:
URL:https://palmettohallhhi.com/event/night-owls-book-club/2024-11-25/
LOCATION:venue rotates between members homes
ORGANIZER;CN="Barb Likos":MAILTO:barblikos@gmail.com
END:VEVENT
BEGIN:VEVENT
DTSTART;TZID=UTC:20241121T133000
DTEND;TZID=UTC:20241121T150000
DTSTAMP:20260420T001035
CREATED:20241030T130504Z
LAST-MODIFIED:20250716T134750Z
UID:10000850-1732195800-1732201200@palmettohallhhi.com
SUMMARY:PHWC Cover to Cover Book Club
DESCRIPTION:
URL:https://palmettohallhhi.com/event/cover-to-cover-book-club/2024-11-21/
LOCATION:venue rotates between members homes
END:VEVENT
BEGIN:VEVENT
DTSTART;TZID=UTC:20241120T130000
DTEND;TZID=UTC:20241120T143000
DTSTAMP:20260420T001035
CREATED:20241106T135129Z
LAST-MODIFIED:20241106T135129Z
UID:10001624-1732107600-1732113000@palmettohallhhi.com
SUMMARY:Book Mates Book Club
DESCRIPTION:
URL:https://palmettohallhhi.com/event/book-mates-book-club-2/
LOCATION:venue rotates between members homes
ORGANIZER;CN="Debbie Dusenberry":MAILTO:debbie.dusenberry2@gmail.com
END:VEVENT
BEGIN:VEVENT
DTSTART;TZID=UTC:20241118T130000
DTEND;TZID=UTC:20241118T143000
DTSTAMP:20260420T001035
CREATED:20241030T131131Z
LAST-MODIFIED:20250716T140632Z
UID:10000910-1731934800-1731940200@palmettohallhhi.com
SUMMARY:PHWC Monday Afternoon Book Club
DESCRIPTION:
URL:https://palmettohallhhi.com/event/monday-afternoon-book-club/2024-11-18/
LOCATION:venue rotates between members homes
END:VEVENT
BEGIN:VEVENT
DTSTART;TZID=UTC:20241106T140000
DTEND;TZID=UTC:20241106T170000
DTSTAMP:20260420T001035
CREATED:20241030T131503Z
LAST-MODIFIED:20250716T135239Z
UID:10000970-1730901600-1730912400@palmettohallhhi.com
SUMMARY:PHWC Chapters & Chats Book Club
DESCRIPTION:
URL:https://palmettohallhhi.com/event/chapters-chats-book-club/2024-11-06/
LOCATION:venue rotates between members homes
ORGANIZER;CN="Nancy Sigmund":MAILTO:nsiggy410@gmail.com
END:VEVENT
BEGIN:VEVENT
DTSTART;TZID=UTC:20241028T190000
DTEND;TZID=UTC:20241028T210000
DTSTAMP:20260420T001035
CREATED:20241030T124558Z
LAST-MODIFIED:20250716T140936Z
UID:10000729-1730142000-1730149200@palmettohallhhi.com
SUMMARY:PHWC Night Owls Book Club
DESCRIPTION:
URL:https://palmettohallhhi.com/event/night-owls-book-club/2024-10-28/
LOCATION:venue rotates between members homes
ORGANIZER;CN="Barb Likos":MAILTO:barblikos@gmail.com
END:VEVENT
END:VCALENDAR